BEGIN:VCALENDAR
PRODID:-//github.com/ical-org/ical.net//NONSGML ical.net 5.2.1//EN
VERSION:2.0
BEGIN:VEVENT
DESCRIPTION:Finansminister Jens Stoltenberg holder pressekonferanse om oppd
 atert modell for verdsetting av boliger fredag 27. februar.<p>Pressekontak
 t er Cecilie Skjennald\, telefon <a href="tel:92%2083%2018%2058">92 83 18
  58</a>\, e-post <a href="mailto:cskj@fin.dep.no">cskj@fin.dep.no</a></p>
DTSTAMP:20260423T084804Z
DTSTART:20260227T110000Z
LOCATION:Finansdepartement\, Akersgata 40\, Oslo
SEQUENCE:0
SUMMARY:Finansministeren holder pressekonferanse om oppdatert modell for ve
 rdsetting av boliger
UID:f5200d4d-1f1a-4cae-8824-3cb59e93b968
X-ALT-DESC;FMTTYPE=text/html:Finansminister Jens Stoltenberg holder pressek
 onferanse om oppdatert modell for verdsetting av boliger fredag 27. februa
 r.<p>Pressekontakt er Cecilie Skjennald\, telefon <a href="tel:92%2083%20
 18%2058">92 83 18 58</a>\, e-post <a href="mailto:cskj@fin.dep.no">cskj@f
 in.dep.no</a></p>
END:VEVENT
BEGIN:VTIMEZONE
TZID:Europe/Oslo
X-LIC-LOCATION:Europe/Oslo
END:VTIMEZONE
END:VCALENDAR
