BEGIN:VCALENDAR
PRODID:-//github.com/ical-org/ical.net//NONSGML ical.net 5.2.1//EN
VERSION:2.0
BEGIN:VEVENT
DESCRIPTION:Fiskeri- og havminister Marianne Sivertsen Næss har invitert m
 aritim næring til dialogmøte tysdag 29. april. Temaet er moglege konsekv
 ensar for norsk maritim næring som følgje av USAs handelspolitikk.<p><a 
 href="https://www.regjeringen.no/no/aktuelt/fiskeri-og-havministeren-moter
 -maritim-naring-om-usa/id3098438/">Sjå presseinvitasjon for meir.</a></p>
DTEND:20250429T140000Z
DTSTAMP:20260425T171651Z
DTSTART:20250429T130000Z
LOCATION:NFD Kongens gate 8 Oslo
SEQUENCE:0
SUMMARY:Fiskeri- og havministeren møter maritim næring om USA
UID:181cd558-d440-4496-b55d-a4e5bc031fc6
X-ALT-DESC;FMTTYPE=text/html:Fiskeri- og havminister Marianne Sivertsen Næ
 ss har invitert maritim næring til dialogmøte tysdag 29. april. Temaet e
 r moglege konsekvensar for norsk maritim næring som følgje av USAs hande
 lspolitikk.<p><a href="https://www.regjeringen.no/no/aktuelt/fiskeri-og-ha
 vministeren-moter-maritim-naring-om-usa/id3098438/">Sjå presseinvitasjon 
 for meir.</a></p>
END:VEVENT
BEGIN:VTIMEZONE
TZID:Europe/Oslo
X-LIC-LOCATION:Europe/Oslo
END:VTIMEZONE
END:VCALENDAR
