BEGIN:VCALENDAR
PRODID:-//github.com/ical-org/ical.net//NONSGML ical.net 5.2.1//EN
VERSION:2.0
BEGIN:VEVENT
DESCRIPTION:Fiskeri- og havminister Marianne Sivertsen Næss besøker Seafo
 od Expo Global i Barcelona<p>Pressekontakt: David Berg Tvetene - <a class=
 "tellink" href="tel:47272679">472 72 679</a></p>\n<p><a href="https://www.
 regjeringen.no/no/aktuelt/fiskeri-og-havministeren-til-verdas-storste-sjom
 atmesse/id3156454/">Se presseinvitasjon her.</a></p>
DTEND:20260421T140000Z
DTSTAMP:20260421T204758Z
DTSTART:20260421T060000Z
LOCATION:Barcelona
SEQUENCE:0
SUMMARY:Fiskeri- og havministeren til verdens største sjømatmesse i Barce
 lona
UID:c35aabb9-7bfd-4e89-9b43-b16e2d5f0381
X-ALT-DESC;FMTTYPE=text/html:Fiskeri- og havminister Marianne Sivertsen Næ
 ss besøker Seafood Expo Global i Barcelona<p>Pressekontakt: David Berg Tv
 etene - <a class="tellink" href="tel:47272679">472 72 679</a></p>\n<p><a h
 ref="https://www.regjeringen.no/no/aktuelt/fiskeri-og-havministeren-til-ve
 rdas-storste-sjomatmesse/id3156454/">Se presseinvitasjon her.</a></p>
END:VEVENT
BEGIN:VEVENT
DESCRIPTION:Fiskeri- og havminister Marianne Sivertsen Næss besøker Seafo
 od Expo Global i Barcelona<p>Pressekontakt: David Berg Tvetene - <a class=
 "tellink" href="tel:47272679">472 72 679</a></p>\n<p><a href="https://www.
 regjeringen.no/no/aktuelt/fiskeri-og-havministeren-til-verdas-storste-sjom
 atmesse/id3156454/">Se presseinvitasjon her.</a></p>
DTEND:20260422T140000Z
DTSTAMP:20260421T204758Z
DTSTART:20260422T060000Z
LOCATION:Barcelona
SEQUENCE:0
SUMMARY:Fiskeri- og havministeren til verdens største sjømatmesse i Barce
 lona
UID:bc2947aa-5fc5-4705-b150-aaf76aa4bdca
X-ALT-DESC;FMTTYPE=text/html:Fiskeri- og havminister Marianne Sivertsen Næ
 ss besøker Seafood Expo Global i Barcelona<p>Pressekontakt: David Berg Tv
 etene - <a class="tellink" href="tel:47272679">472 72 679</a></p>\n<p><a h
 ref="https://www.regjeringen.no/no/aktuelt/fiskeri-og-havministeren-til-ve
 rdas-storste-sjomatmesse/id3156454/">Se presseinvitasjon her.</a></p>
END:VEVENT
BEGIN:VTIMEZONE
TZID:Europe/Oslo
X-LIC-LOCATION:Europe/Oslo
END:VTIMEZONE
END:VCALENDAR
