BEGIN:VCALENDAR
PRODID:-//github.com/ical-org/ical.net//NONSGML ical.net 5.2.1//EN
VERSION:2.0
BEGIN:VEVENT
DESCRIPTION:Forsknings- og høyere utdanningsminister Sigrun Aasland besøk
 er Høgskolen i Østfold. 
DTSTAMP:20260422T020213Z
DTSTART:20260420T090000Z
LOCATION:Høgskolen i Østfold\, Campus Fredrikstad
SEQUENCE:0
SUMMARY:Forsknings- og høyere utdanningsministeren besøker Høgskolen i 
 Østfold
UID:39bb0d83-601f-43a9-8d2f-2aba28de96e8
X-ALT-DESC;FMTTYPE=text/html:Forsknings- og høyere utdanningsminister Sigr
 un Aasland besøker Høgskolen i Østfold. 
END:VEVENT
BEGIN:VTIMEZONE
TZID:Europe/Oslo
X-LIC-LOCATION:Europe/Oslo
END:VTIMEZONE
END:VCALENDAR
