BEGIN:VCALENDAR
PRODID:-//github.com/ical-org/ical.net//NONSGML ical.net 5.2.1//EN
VERSION:2.0
BEGIN:VEVENT
DESCRIPTION:Forsknings- og høyere utdanningsminister Sigrun Aasland holder
  tale og deltar i panelsamtale på Norsk Sykepleierforbund Students årsko
 nferanse. 
DTSTAMP:20260422T084027Z
DTSTART:20260417T110000Z
LOCATION:Hotel Runway\, Gardermoen
SEQUENCE:0
SUMMARY:Forsknings- og høyere utdanningsministeren besøker Sykepleierstud
 entenes årskonferanse
UID:8619b233-3819-4105-9f34-0c51f0d85a2f
X-ALT-DESC;FMTTYPE=text/html:Forsknings- og høyere utdanningsminister Sigr
 un Aasland holder tale og deltar i panelsamtale på Norsk Sykepleierforbun
 d Students årskonferanse. 
END:VEVENT
BEGIN:VTIMEZONE
TZID:Europe/Oslo
X-LIC-LOCATION:Europe/Oslo
END:VTIMEZONE
END:VCALENDAR
