BEGIN:VCALENDAR
PRODID:-//github.com/ical-org/ical.net//NONSGML ical.net 5.2.1//EN
VERSION:2.0
BEGIN:VEVENT
DESCRIPTION:Forsknings- og høyere utdanningsminister Sigrun Aasland besøk
 er årsmøtet til NTL Universitet og Høgskoler. 
DTSTAMP:20260422T002453Z
DTSTART:20260420T110000Z
LOCATION:Quality Hotel Fredrikstad
SEQUENCE:0
SUMMARY:Forsknings- og høyere utdanningsministeren deltar på landsmøtet 
 til NTL Universitet og høgskoler
UID:a7b84291-74bd-4542-8353-861f8835ca9a
X-ALT-DESC;FMTTYPE=text/html:Forsknings- og høyere utdanningsminister Sigr
 un Aasland besøker årsmøtet til NTL Universitet og Høgskoler. 
END:VEVENT
BEGIN:VTIMEZONE
TZID:Europe/Oslo
X-LIC-LOCATION:Europe/Oslo
END:VTIMEZONE
END:VCALENDAR
