BEGIN:VCALENDAR
PRODID:-//github.com/ical-org/ical.net//NONSGML ical.net 5.2.1//EN
VERSION:2.0
BEGIN:VEVENT
DESCRIPTION:Forsvarsminister Tore O. Sandvik deltar på digitalt møte i Ko
 ntaktgruppen for Ukraina (UDCG) for å koordinere militær støtte til Ukr
 aina.\n\n\n<p>Kontaktperson for media: Lars Gjemble\, LGJ@fd.dep.no</p>
DTSTAMP:20260423T023507Z
DTSTART:20260414T220000Z
LOCATION:Oslo
SEQUENCE:0
SUMMARY:Forsvarsministeren deltar digitalt på UDCG-møte
UID:59306b72-ba63-4dea-982d-8020c7f6e5b1
X-ALT-DESC;FMTTYPE=text/html:Forsvarsminister Tore O. Sandvik deltar på di
 gitalt møte i Kontaktgruppen for Ukraina (UDCG) for å koordinere militæ
 r støtte til Ukraina.\n\n\n<p>Kontaktperson for media: Lars Gjemble\, LGJ
 @fd.dep.no</p>
END:VEVENT
BEGIN:VTIMEZONE
TZID:Europe/Oslo
X-LIC-LOCATION:Europe/Oslo
END:VTIMEZONE
END:VCALENDAR
