BEGIN:VCALENDAR
PRODID:-//github.com/ical-org/ical.net//NONSGML ical.net 5.2.1//EN
VERSION:2.0
BEGIN:VEVENT
DESCRIPTION:
DTEND:20260421T114500Z
DTSTAMP:20260421T190640Z
DTSTART:20260421T103000Z
LOCATION:Haraldsplass diakonale sykehus 5009 Ulriksdal 8 Bergen
SEQUENCE:0
SUMMARY:Helse- og omsorgsministeren besøker Haraldsplass diakonale sykehus
UID:35839133-e425-4126-ab4f-684576dcc0d8
END:VEVENT
BEGIN:VTIMEZONE
TZID:Europe/Oslo
X-LIC-LOCATION:Europe/Oslo
END:VTIMEZONE
END:VCALENDAR
