BEGIN:VCALENDAR
PRODID:-//github.com/ical-org/ical.net//NONSGML ical.net 5.2.1//EN
VERSION:2.0
BEGIN:VEVENT
DESCRIPTION:<ul class="link-list">\n<li><a href="https://www.regjeringen.no
 /no/aktuelt/vestre-besoker-skjetten-legesenter/id3037556/">Ytterligere inf
 ormasjon i presseinvitasjonen</a></li>\n</ul>
DTEND:20240507T113000Z
DTSTAMP:20260424T170346Z
DTSTART:20240507T103000Z
LOCATION:Skjetten legesenter 2013 Nordens vei 15 Skjetten
SEQUENCE:0
SUMMARY:Helse- og omsorgsministeren besøker Skjetten legesenter
UID:87141587-e92c-42ae-be75-1147892d0e99
X-ALT-DESC;FMTTYPE=text/html:<ul class="link-list">\n<li><a href="https://w
 ww.regjeringen.no/no/aktuelt/vestre-besoker-skjetten-legesenter/id3037556/
 ">Ytterligere informasjon i presseinvitasjonen</a></li>\n</ul>
END:VEVENT
BEGIN:VTIMEZONE
TZID:Europe/Oslo
X-LIC-LOCATION:Europe/Oslo
END:VTIMEZONE
END:VCALENDAR
