BEGIN:VCALENDAR
PRODID:-//github.com/ical-org/ical.net//NONSGML ical.net 5.2.1//EN
VERSION:2.0
BEGIN:VEVENT
DESCRIPTION:
DTEND:20260415T100000Z
DTSTAMP:20260422T231720Z
DTSTART:20260415T093000Z
LOCATION:Stortinget
SEQUENCE:0
SUMMARY:Helse- og omsorgsministeren deltar i Stortingets spørretime
UID:45e8d94a-325b-49a5-97cb-fac233f2359d
END:VEVENT
BEGIN:VTIMEZONE
TZID:Europe/Oslo
X-LIC-LOCATION:Europe/Oslo
END:VTIMEZONE
END:VCALENDAR
