BEGIN:VCALENDAR
PRODID:-//github.com/ical-org/ical.net//NONSGML ical.net 5.2.1//EN
VERSION:2.0
BEGIN:VEVENT
DESCRIPTION:<ul style="list-style-type: link-list\;">\n<li data-nav="linkli
 st-link"><a href="https://www.regjeringen.no/no/aktuelt/helse-og-omsorgsmi
 nister-jan-christian-vestre-deltar-pa-grunnsteinsnedlegging-for-nye-riksho
 spitalet/id3156279/">Flere detaljer i presseinvitasjon</a></li>\n</ul>
DTEND:20260416T080000Z
DTSTAMP:20260422T193732Z
DTSTART:20260416T070000Z
LOCATION:Rikshospitalet i Oslo
SEQUENCE:0
SUMMARY:Helse- og omsorgsministeren deltar på grunnsteinsnedlegging for Ny
 e Rikshospitalet
UID:ac9f58cf-df94-4b77-bb0a-7d161dece845
X-ALT-DESC;FMTTYPE=text/html:<ul style="list-style-type: link-list\;">\n<li
  data-nav="linklist-link"><a href="https://www.regjeringen.no/no/aktuelt/h
 else-og-omsorgsminister-jan-christian-vestre-deltar-pa-grunnsteinsnedleggi
 ng-for-nye-rikshospitalet/id3156279/">Flere detaljer i presseinvitasjon</a
 ></li>\n</ul>
END:VEVENT
BEGIN:VTIMEZONE
TZID:Europe/Oslo
X-LIC-LOCATION:Europe/Oslo
END:VTIMEZONE
END:VCALENDAR
