BEGIN:VCALENDAR
PRODID:-//github.com/ical-org/ical.net//NONSGML ical.net 5.2.1//EN
VERSION:2.0
BEGIN:VEVENT
DESCRIPTION:
DTEND:20260202T163000Z
DTSTAMP:20260422T230347Z
DTSTART:20260202T150000Z
LOCATION:Brussel
SEQUENCE:0
SUMMARY:Helse- og omsorgsministeren har møter med EFTA og EØS-institusjon
 ene (EFTA Sekretariatet\, ESA og FMO)
UID:d5970f03-95ee-4dde-8b85-73bc181dffaf
END:VEVENT
BEGIN:VTIMEZONE
TZID:Europe/Oslo
X-LIC-LOCATION:Europe/Oslo
END:VTIMEZONE
END:VCALENDAR
