BEGIN:VCALENDAR
PRODID:-//github.com/ical-org/ical.net//NONSGML ical.net 5.2.1//EN
VERSION:2.0
BEGIN:VEVENT
DESCRIPTION:Aldersvennlig boligbygging\, velferdsteknologi og demens er noe
 n av temaene når Vestre besøker Ulsteinvik\, Ålesund\, Førde\, Bergen\
 , Stavanger og Randaberg.<h2>Program:</h2>\n<h2>Mandag 9. september</h2>\n
 <h3>Ulsteinvik</h3>\n<ul>\n<li>08.30 – 09.30: Byvandring gjennom aldersv
 ennlige 300-metersbyen i Ulsteinvik<br /><strong>Adresse:</strong> Ulstei
 n Arena\, Vikemyra 2\, 6065 Ulsteinvik<br /><br /></li>\n<li>09.30 – 10.
 30: Besøk med hjemmetjenesten i Ulsteinvik sentrum for å se velferdstekn
 ologiske løsninger<br /><strong>Adresse:</strong> Holsekerdalen 20\, 606
 5 Ulsteinvik</li>\n</ul>\n<h3>Ålesund</h3>\n<ul>\n<li>12.30 – 13.20: Be
 søk til aktivitetstilbudet for eldre\, Sterk og stødig<br /><strong>Adre
 sse:</strong> Borgundveien 162b\, 6008 Ålesund<br /><br /></li>\n<li>13.
 35 – 14.30: Besøk på Åse helsehus med fokus på innføringen av Helse
 plattformen<br /><br /><strong>Adresse:</strong> Åsesvingen 16\, 6017 Å
 lesund</li>\n<li>15.00 - 16.00: Besøk på Skansen aktivitet (<strong>i r
 egi av Arbeiderpartiet)<br />Adresse: </strong>Sorenskriver Bulls gate 17
 \, 6002 Ålesund<br /><br /></li>\n<li>17.30 – 19.30: Folkemøte om hels
 epolitikk på Pir Cowork (<strong>i regi av Arbeiderpartiet)</strong><br /
 ><strong>Adresse:</strong> Keiser Wilhelmsgate 22 (Pir Cowork)\, 6002 Ål
 esund</li>\n</ul>\n<h2>Tirsdag 10. september</h2>\n<h3>Førde</h3>\n<ul>\n
 <li>08.30 –09.15: Omvisning hos Apotekargarden omsorgsboliger<br /><stro
 ng>Adresse:</strong> Langebruvegen 15\, 6800 Førde<br /><br /></li>\n<li
 >09.30 – 10.45: Besøk på nye Førde sjukehus<br /><strong>Adresse: </
 strong>Svanehaugveien 2\, 6812 Førde<br /><br /></li>\n<li>11.00 – 12.0
 0: Møte fremtidens sykepleiere m.m. ved Høgskulen på Vestlandet<br /><s
 trong>Adresse:</strong> Svanehaugvegen 1\, 6812 Førde</li>\n</ul>\n<h3>B
 ergen</h3>\n<ul>\n<li>16.00 – 17.15: Møte med eiendomsutviklere og fors
 kningsmiljøer om aldersvennlig boligbygging i Bergen<br /><strong>Adresse
 :</strong> Øvre Sædalsvegen 169 A-T\, 5099 Bergen<br /><br /></li>\n<li
 >17.15 – 18.00: Omvisning på Helgetun bofellesskap<br /><strong>Adresse
 :</strong> Øvre Sædalsvegen 169 A-T\, 5099 Bergen<br /><br /></li>\n<li
 >18.30 – 20.30: Folkemøte om helsepolitikk i Aasegården (<strong>i re
 gi av Arbeiderpartiet)<br />Adresse: </strong>Bjørns gate 1\, Aasegårde
 n\, 6 etg</li>\n</ul>\n<h2>Onsdag 11. september</h2>\n<h3>Stavanger/Tanang
 er</h3>\n<ul>\n<li>08.00 – 09.30: Besøk på Norwegian Smart Care Lab om
  utvikling av fremtidens velferdsteknologi<br /><strong>Adresse:</strong>
  Professor Olav Hanssens vei 7a\, 4021 Stavanger<br /><br /></li>\n<li>10
 .00 – 11.15: Besøk på Stokka sykehjem for å høre om prosjekt Heltids
 kultur<br /><strong>Adresse:</strong> Lassaveien 10\, 4022 Stavanger<br /
 ><br /></li>\n<li>10.30 ­– 12.30: Besøk på aktivitetstilbud for yngre
  personer med demens på Hermetikken<br /><strong>Adresse:</strong> Badeh
 usgata 37\, 4014 Stavanger<br /><br /></li>\n<li>13.00 – 13.45: Besøk 
 hos Mottaks- og oppfølgingsseter for unge\, MO-Ung<br /><strong>Adresse:<
 /strong> Bjergsted Terrasse nr 11\, 4007 Stavanger<br /><br /></li>\n<li>
 14.30 ­– 15.45: Besøk hos Tananger bo- og velferdssenter for å høre 
 om arbeidet med demens og bruk av ønske-turnus<br /><strong>Adresse:</str
 ong> Storevardvegen 25\, 4056 Tananger<br /><br /></li>\n<li>17.30 – 19
 .30: Folkemøte om helsepolitikk på Folken (<strong>i regi av Arbeiderpa
 rtiet)<br />Adresse: </strong>Arne rettedals gate 16\, Folkets hus Stavan
 ger </li>\n</ul>\n<p><strong>Pressen er velkommen til å delta.</strong><
 /p>\n<p>Journalister som ønsker å være med på arrangementer i regi av 
 Arbeiderpartiet\, folkemøter og besøket på Skansen aktivitet kan kontak
 te politisk rådgiver Bhanuja (Bano) Rasiah\, tlf: 980 26 561.</p>\n<p>Jou
 rnalister som ønsker å være med på noen av de øvrige arrangementene k
 an kontakte kommunikasjonsrådgiver Ingvild Wathne Johnsen\, tlf: 905 78 6
 71.</p>
DTEND:20240909T173000Z
DTSTAMP:20260424T223730Z
DTSTART:20240909T063000Z
SEQUENCE:0
SUMMARY:Helse - og omsorgsministeren på eldreturné
UID:e1a3ba2f-b444-4122-bd0e-6a9d546d808c
X-ALT-DESC;FMTTYPE=text/html:Aldersvennlig boligbygging\, velferdsteknologi
  og demens er noen av temaene når Vestre besøker Ulsteinvik\, Ålesund\,
  Førde\, Bergen\, Stavanger og Randaberg.<h2>Program:</h2>\n<h2>Mandag 9.
  september</h2>\n<h3>Ulsteinvik</h3>\n<ul>\n<li>08.30 – 09.30: Byvandrin
 g gjennom aldersvennlige 300-metersbyen i Ulsteinvik<br /><strong>Adresse:
 </strong> Ulstein Arena\, Vikemyra 2\, 6065 Ulsteinvik<br /><br /></li>\n
 <li>09.30 – 10.30: Besøk med hjemmetjenesten i Ulsteinvik sentrum for 
 å se velferdsteknologiske løsninger<br /><strong>Adresse:</strong> Hols
 ekerdalen 20\, 6065 Ulsteinvik</li>\n</ul>\n<h3>Ålesund</h3>\n<ul>\n<li>1
 2.30 – 13.20: Besøk til aktivitetstilbudet for eldre\, Sterk og stødig
 <br /><strong>Adresse:</strong> Borgundveien 162b\, 6008 Ålesund<br /><b
 r /></li>\n<li>13.35 – 14.30: Besøk på Åse helsehus med fokus på inn
 føringen av Helseplattformen<br /><br /><strong>Adresse:</strong> Åsesv
 ingen 16\, 6017 Ålesund</li>\n<li>15.00 - 16.00: Besøk på Skansen aktiv
 itet (<strong>i regi av Arbeiderpartiet)<br />Adresse: </strong>Sorenskr
 iver Bulls gate 17\, 6002 Ålesund<br /><br /></li>\n<li>17.30 – 19.30: 
 Folkemøte om helsepolitikk på Pir Cowork (<strong>i regi av Arbeiderpart
 iet)</strong><br /><strong>Adresse:</strong> Keiser Wilhelmsgate 22 (Pir 
 Cowork)\, 6002 Ålesund</li>\n</ul>\n<h2>Tirsdag 10. september</h2>\n<h3>F
 ørde</h3>\n<ul>\n<li>08.30 –09.15: Omvisning hos Apotekargarden omsorgs
 boliger<br /><strong>Adresse:</strong> Langebruvegen 15\, 6800 Førde<br 
 /><br /></li>\n<li>09.30 – 10.45: Besøk på nye Førde sjukehus<br /><s
 trong>Adresse: </strong>Svanehaugveien 2\, 6812 Førde<br /><br /></li>\n
 <li>11.00 – 12.00: Møte fremtidens sykepleiere m.m. ved Høgskulen på 
 Vestlandet<br /><strong>Adresse:</strong> Svanehaugvegen 1\, 6812 Førde<
 /li>\n</ul>\n<h3>Bergen</h3>\n<ul>\n<li>16.00 – 17.15: Møte med eiendom
 sutviklere og forskningsmiljøer om aldersvennlig boligbygging i Bergen<br
  /><strong>Adresse:</strong> Øvre Sædalsvegen 169 A-T\, 5099 Bergen<br 
 /><br /></li>\n<li>17.15 – 18.00: Omvisning på Helgetun bofellesskap<br
  /><strong>Adresse:</strong> Øvre Sædalsvegen 169 A-T\, 5099 Bergen<br 
 /><br /></li>\n<li>18.30 – 20.30: Folkemøte om helsepolitikk i Aasegår
 den (<strong>i regi av Arbeiderpartiet)<br />Adresse: </strong>Bjørns g
 ate 1\, Aasegården\, 6 etg</li>\n</ul>\n<h2>Onsdag 11. september</h2>\n<h
 3>Stavanger/Tananger</h3>\n<ul>\n<li>08.00 – 09.30: Besøk på Norwegian
  Smart Care Lab om utvikling av fremtidens velferdsteknologi<br /><strong>
 Adresse:</strong> Professor Olav Hanssens vei 7a\, 4021 Stavanger<br /><b
 r /></li>\n<li>10.00 – 11.15: Besøk på Stokka sykehjem for å høre om
  prosjekt Heltidskultur<br /><strong>Adresse:</strong> Lassaveien 10\, 40
 22 Stavanger<br /><br /></li>\n<li>10.30 ­– 12.30: Besøk på aktivitet
 stilbud for yngre personer med demens på Hermetikken<br /><strong>Adresse
 :</strong> Badehusgata 37\, 4014 Stavanger<br /><br /></li>\n<li>13.00 
 – 13.45: Besøk hos Mottaks- og oppfølgingsseter for unge\, MO-Ung<br /
 ><strong>Adresse:</strong> Bjergsted Terrasse nr 11\, 4007 Stavanger<br /
 ><br /></li>\n<li>14.30 ­– 15.45: Besøk hos Tananger bo- og velferdsse
 nter for å høre om arbeidet med demens og bruk av ønske-turnus<br /><st
 rong>Adresse:</strong> Storevardvegen 25\, 4056 Tananger<br /><br /></li>
 \n<li>17.30 – 19.30: Folkemøte om helsepolitikk på Folken (<strong>i 
 regi av Arbeiderpartiet)<br />Adresse: </strong>Arne rettedals gate 16\, 
 Folkets hus Stavanger </li>\n</ul>\n<p><strong>Pressen er velkommen til 
 å delta.</strong></p>\n<p>Journalister som ønsker å være med på arran
 gementer i regi av Arbeiderpartiet\, folkemøter og besøket på Skansen a
 ktivitet kan kontakte politisk rådgiver Bhanuja (Bano) Rasiah\, tlf: 980 
 26 561.</p>\n<p>Journalister som ønsker å være med på noen av de øvri
 ge arrangementene kan kontakte kommunikasjonsrådgiver Ingvild Wathne John
 sen\, tlf: 905 78 671.</p>
END:VEVENT
BEGIN:VEVENT
DESCRIPTION:Aldersvennlig boligbygging\, velferdsteknologi og demens er noe
 n av temaene når Vestre besøker Ulsteinvik\, Ålesund\, Førde\, Bergen\
 , Stavanger og Randaberg.<h2>Program:</h2>\n<h2>Mandag 9. september</h2>\n
 <h3>Ulsteinvik</h3>\n<ul>\n<li>08.30 – 09.30: Byvandring gjennom aldersv
 ennlige 300-metersbyen i Ulsteinvik<br /><strong>Adresse:</strong> Ulstei
 n Arena\, Vikemyra 2\, 6065 Ulsteinvik<br /><br /></li>\n<li>09.30 – 10.
 30: Besøk med hjemmetjenesten i Ulsteinvik sentrum for å se velferdstekn
 ologiske løsninger<br /><strong>Adresse:</strong> Holsekerdalen 20\, 606
 5 Ulsteinvik</li>\n</ul>\n<h3>Ålesund</h3>\n<ul>\n<li>12.30 – 13.20: Be
 søk til aktivitetstilbudet for eldre\, Sterk og stødig<br /><strong>Adre
 sse:</strong> Borgundveien 162b\, 6008 Ålesund<br /><br /></li>\n<li>13.
 35 – 14.30: Besøk på Åse helsehus med fokus på innføringen av Helse
 plattformen<br /><br /><strong>Adresse:</strong> Åsesvingen 16\, 6017 Å
 lesund</li>\n<li>15.00 - 16.00: Besøk på Skansen aktivitet (<strong>i r
 egi av Arbeiderpartiet)<br />Adresse: </strong>Sorenskriver Bulls gate 17
 \, 6002 Ålesund<br /><br /></li>\n<li>17.30 – 19.30: Folkemøte om hels
 epolitikk på Pir Cowork (<strong>i regi av Arbeiderpartiet)</strong><br /
 ><strong>Adresse:</strong> Keiser Wilhelmsgate 22 (Pir Cowork)\, 6002 Ål
 esund</li>\n</ul>\n<h2>Tirsdag 10. september</h2>\n<h3>Førde</h3>\n<ul>\n
 <li>08.30 –09.15: Omvisning hos Apotekargarden omsorgsboliger<br /><stro
 ng>Adresse:</strong> Langebruvegen 15\, 6800 Førde<br /><br /></li>\n<li
 >09.30 – 10.45: Besøk på nye Førde sjukehus<br /><strong>Adresse: </
 strong>Svanehaugveien 2\, 6812 Førde<br /><br /></li>\n<li>11.00 – 12.0
 0: Møte fremtidens sykepleiere m.m. ved Høgskulen på Vestlandet<br /><s
 trong>Adresse:</strong> Svanehaugvegen 1\, 6812 Førde</li>\n</ul>\n<h3>B
 ergen</h3>\n<ul>\n<li>16.00 – 17.15: Møte med eiendomsutviklere og fors
 kningsmiljøer om aldersvennlig boligbygging i Bergen<br /><strong>Adresse
 :</strong> Øvre Sædalsvegen 169 A-T\, 5099 Bergen<br /><br /></li>\n<li
 >17.15 – 18.00: Omvisning på Helgetun bofellesskap<br /><strong>Adresse
 :</strong> Øvre Sædalsvegen 169 A-T\, 5099 Bergen<br /><br /></li>\n<li
 >18.30 – 20.30: Folkemøte om helsepolitikk i Aasegården (<strong>i re
 gi av Arbeiderpartiet)<br />Adresse: </strong>Bjørns gate 1\, Aasegårde
 n\, 6 etg</li>\n</ul>\n<h2>Onsdag 11. september</h2>\n<h3>Stavanger/Tanang
 er</h3>\n<ul>\n<li>08.00 – 09.30: Besøk på Norwegian Smart Care Lab om
  utvikling av fremtidens velferdsteknologi<br /><strong>Adresse:</strong>
  Professor Olav Hanssens vei 7a\, 4021 Stavanger<br /><br /></li>\n<li>10
 .00 – 11.15: Besøk på Stokka sykehjem for å høre om prosjekt Heltids
 kultur<br /><strong>Adresse:</strong> Lassaveien 10\, 4022 Stavanger<br /
 ><br /></li>\n<li>10.30 ­– 12.30: Besøk på aktivitetstilbud for yngre
  personer med demens på Hermetikken<br /><strong>Adresse:</strong> Badeh
 usgata 37\, 4014 Stavanger<br /><br /></li>\n<li>13.00 – 13.45: Besøk 
 hos Mottaks- og oppfølgingsseter for unge\, MO-Ung<br /><strong>Adresse:<
 /strong> Bjergsted Terrasse nr 11\, 4007 Stavanger<br /><br /></li>\n<li>
 14.30 ­– 15.45: Besøk hos Tananger bo- og velferdssenter for å høre 
 om arbeidet med demens og bruk av ønske-turnus<br /><strong>Adresse:</str
 ong> Storevardvegen 25\, 4056 Tananger<br /><br /></li>\n<li>17.30 – 19
 .30: Folkemøte om helsepolitikk på Folken (<strong>i regi av Arbeiderpa
 rtiet)<br />Adresse: </strong>Arne rettedals gate 16\, Folkets hus Stavan
 ger </li>\n</ul>\n<p><strong>Pressen er velkommen til å delta.</strong><
 /p>\n<p>Journalister som ønsker å være med på arrangementer i regi av 
 Arbeiderpartiet\, folkemøter og besøket på Skansen aktivitet kan kontak
 te politisk rådgiver Bhanuja (Bano) Rasiah\, tlf: 980 26 561.</p>\n<p>Jou
 rnalister som ønsker å være med på noen av de øvrige arrangementene k
 an kontakte kommunikasjonsrådgiver Ingvild Wathne Johnsen\, tlf: 905 78 6
 71.</p>
DTEND:20240910T173000Z
DTSTAMP:20260424T223730Z
DTSTART:20240910T063000Z
SEQUENCE:0
SUMMARY:Helse - og omsorgsministeren på eldreturné
UID:39c4d98b-8ed2-4347-9deb-a1cf278ccf0d
X-ALT-DESC;FMTTYPE=text/html:Aldersvennlig boligbygging\, velferdsteknologi
  og demens er noen av temaene når Vestre besøker Ulsteinvik\, Ålesund\,
  Førde\, Bergen\, Stavanger og Randaberg.<h2>Program:</h2>\n<h2>Mandag 9.
  september</h2>\n<h3>Ulsteinvik</h3>\n<ul>\n<li>08.30 – 09.30: Byvandrin
 g gjennom aldersvennlige 300-metersbyen i Ulsteinvik<br /><strong>Adresse:
 </strong> Ulstein Arena\, Vikemyra 2\, 6065 Ulsteinvik<br /><br /></li>\n
 <li>09.30 – 10.30: Besøk med hjemmetjenesten i Ulsteinvik sentrum for 
 å se velferdsteknologiske løsninger<br /><strong>Adresse:</strong> Hols
 ekerdalen 20\, 6065 Ulsteinvik</li>\n</ul>\n<h3>Ålesund</h3>\n<ul>\n<li>1
 2.30 – 13.20: Besøk til aktivitetstilbudet for eldre\, Sterk og stødig
 <br /><strong>Adresse:</strong> Borgundveien 162b\, 6008 Ålesund<br /><b
 r /></li>\n<li>13.35 – 14.30: Besøk på Åse helsehus med fokus på inn
 føringen av Helseplattformen<br /><br /><strong>Adresse:</strong> Åsesv
 ingen 16\, 6017 Ålesund</li>\n<li>15.00 - 16.00: Besøk på Skansen aktiv
 itet (<strong>i regi av Arbeiderpartiet)<br />Adresse: </strong>Sorenskr
 iver Bulls gate 17\, 6002 Ålesund<br /><br /></li>\n<li>17.30 – 19.30: 
 Folkemøte om helsepolitikk på Pir Cowork (<strong>i regi av Arbeiderpart
 iet)</strong><br /><strong>Adresse:</strong> Keiser Wilhelmsgate 22 (Pir 
 Cowork)\, 6002 Ålesund</li>\n</ul>\n<h2>Tirsdag 10. september</h2>\n<h3>F
 ørde</h3>\n<ul>\n<li>08.30 –09.15: Omvisning hos Apotekargarden omsorgs
 boliger<br /><strong>Adresse:</strong> Langebruvegen 15\, 6800 Førde<br 
 /><br /></li>\n<li>09.30 – 10.45: Besøk på nye Førde sjukehus<br /><s
 trong>Adresse: </strong>Svanehaugveien 2\, 6812 Førde<br /><br /></li>\n
 <li>11.00 – 12.00: Møte fremtidens sykepleiere m.m. ved Høgskulen på 
 Vestlandet<br /><strong>Adresse:</strong> Svanehaugvegen 1\, 6812 Førde<
 /li>\n</ul>\n<h3>Bergen</h3>\n<ul>\n<li>16.00 – 17.15: Møte med eiendom
 sutviklere og forskningsmiljøer om aldersvennlig boligbygging i Bergen<br
  /><strong>Adresse:</strong> Øvre Sædalsvegen 169 A-T\, 5099 Bergen<br 
 /><br /></li>\n<li>17.15 – 18.00: Omvisning på Helgetun bofellesskap<br
  /><strong>Adresse:</strong> Øvre Sædalsvegen 169 A-T\, 5099 Bergen<br 
 /><br /></li>\n<li>18.30 – 20.30: Folkemøte om helsepolitikk i Aasegår
 den (<strong>i regi av Arbeiderpartiet)<br />Adresse: </strong>Bjørns g
 ate 1\, Aasegården\, 6 etg</li>\n</ul>\n<h2>Onsdag 11. september</h2>\n<h
 3>Stavanger/Tananger</h3>\n<ul>\n<li>08.00 – 09.30: Besøk på Norwegian
  Smart Care Lab om utvikling av fremtidens velferdsteknologi<br /><strong>
 Adresse:</strong> Professor Olav Hanssens vei 7a\, 4021 Stavanger<br /><b
 r /></li>\n<li>10.00 – 11.15: Besøk på Stokka sykehjem for å høre om
  prosjekt Heltidskultur<br /><strong>Adresse:</strong> Lassaveien 10\, 40
 22 Stavanger<br /><br /></li>\n<li>10.30 ­– 12.30: Besøk på aktivitet
 stilbud for yngre personer med demens på Hermetikken<br /><strong>Adresse
 :</strong> Badehusgata 37\, 4014 Stavanger<br /><br /></li>\n<li>13.00 
 – 13.45: Besøk hos Mottaks- og oppfølgingsseter for unge\, MO-Ung<br /
 ><strong>Adresse:</strong> Bjergsted Terrasse nr 11\, 4007 Stavanger<br /
 ><br /></li>\n<li>14.30 ­– 15.45: Besøk hos Tananger bo- og velferdsse
 nter for å høre om arbeidet med demens og bruk av ønske-turnus<br /><st
 rong>Adresse:</strong> Storevardvegen 25\, 4056 Tananger<br /><br /></li>
 \n<li>17.30 – 19.30: Folkemøte om helsepolitikk på Folken (<strong>i 
 regi av Arbeiderpartiet)<br />Adresse: </strong>Arne rettedals gate 16\, 
 Folkets hus Stavanger </li>\n</ul>\n<p><strong>Pressen er velkommen til 
 å delta.</strong></p>\n<p>Journalister som ønsker å være med på arran
 gementer i regi av Arbeiderpartiet\, folkemøter og besøket på Skansen a
 ktivitet kan kontakte politisk rådgiver Bhanuja (Bano) Rasiah\, tlf: 980 
 26 561.</p>\n<p>Journalister som ønsker å være med på noen av de øvri
 ge arrangementene kan kontakte kommunikasjonsrådgiver Ingvild Wathne John
 sen\, tlf: 905 78 671.</p>
END:VEVENT
BEGIN:VEVENT
DESCRIPTION:Aldersvennlig boligbygging\, velferdsteknologi og demens er noe
 n av temaene når Vestre besøker Ulsteinvik\, Ålesund\, Førde\, Bergen\
 , Stavanger og Randaberg.<h2>Program:</h2>\n<h2>Mandag 9. september</h2>\n
 <h3>Ulsteinvik</h3>\n<ul>\n<li>08.30 – 09.30: Byvandring gjennom aldersv
 ennlige 300-metersbyen i Ulsteinvik<br /><strong>Adresse:</strong> Ulstei
 n Arena\, Vikemyra 2\, 6065 Ulsteinvik<br /><br /></li>\n<li>09.30 – 10.
 30: Besøk med hjemmetjenesten i Ulsteinvik sentrum for å se velferdstekn
 ologiske løsninger<br /><strong>Adresse:</strong> Holsekerdalen 20\, 606
 5 Ulsteinvik</li>\n</ul>\n<h3>Ålesund</h3>\n<ul>\n<li>12.30 – 13.20: Be
 søk til aktivitetstilbudet for eldre\, Sterk og stødig<br /><strong>Adre
 sse:</strong> Borgundveien 162b\, 6008 Ålesund<br /><br /></li>\n<li>13.
 35 – 14.30: Besøk på Åse helsehus med fokus på innføringen av Helse
 plattformen<br /><br /><strong>Adresse:</strong> Åsesvingen 16\, 6017 Å
 lesund</li>\n<li>15.00 - 16.00: Besøk på Skansen aktivitet (<strong>i r
 egi av Arbeiderpartiet)<br />Adresse: </strong>Sorenskriver Bulls gate 17
 \, 6002 Ålesund<br /><br /></li>\n<li>17.30 – 19.30: Folkemøte om hels
 epolitikk på Pir Cowork (<strong>i regi av Arbeiderpartiet)</strong><br /
 ><strong>Adresse:</strong> Keiser Wilhelmsgate 22 (Pir Cowork)\, 6002 Ål
 esund</li>\n</ul>\n<h2>Tirsdag 10. september</h2>\n<h3>Førde</h3>\n<ul>\n
 <li>08.30 –09.15: Omvisning hos Apotekargarden omsorgsboliger<br /><stro
 ng>Adresse:</strong> Langebruvegen 15\, 6800 Førde<br /><br /></li>\n<li
 >09.30 – 10.45: Besøk på nye Førde sjukehus<br /><strong>Adresse: </
 strong>Svanehaugveien 2\, 6812 Førde<br /><br /></li>\n<li>11.00 – 12.0
 0: Møte fremtidens sykepleiere m.m. ved Høgskulen på Vestlandet<br /><s
 trong>Adresse:</strong> Svanehaugvegen 1\, 6812 Førde</li>\n</ul>\n<h3>B
 ergen</h3>\n<ul>\n<li>16.00 – 17.15: Møte med eiendomsutviklere og fors
 kningsmiljøer om aldersvennlig boligbygging i Bergen<br /><strong>Adresse
 :</strong> Øvre Sædalsvegen 169 A-T\, 5099 Bergen<br /><br /></li>\n<li
 >17.15 – 18.00: Omvisning på Helgetun bofellesskap<br /><strong>Adresse
 :</strong> Øvre Sædalsvegen 169 A-T\, 5099 Bergen<br /><br /></li>\n<li
 >18.30 – 20.30: Folkemøte om helsepolitikk i Aasegården (<strong>i re
 gi av Arbeiderpartiet)<br />Adresse: </strong>Bjørns gate 1\, Aasegårde
 n\, 6 etg</li>\n</ul>\n<h2>Onsdag 11. september</h2>\n<h3>Stavanger/Tanang
 er</h3>\n<ul>\n<li>08.00 – 09.30: Besøk på Norwegian Smart Care Lab om
  utvikling av fremtidens velferdsteknologi<br /><strong>Adresse:</strong>
  Professor Olav Hanssens vei 7a\, 4021 Stavanger<br /><br /></li>\n<li>10
 .00 – 11.15: Besøk på Stokka sykehjem for å høre om prosjekt Heltids
 kultur<br /><strong>Adresse:</strong> Lassaveien 10\, 4022 Stavanger<br /
 ><br /></li>\n<li>10.30 ­– 12.30: Besøk på aktivitetstilbud for yngre
  personer med demens på Hermetikken<br /><strong>Adresse:</strong> Badeh
 usgata 37\, 4014 Stavanger<br /><br /></li>\n<li>13.00 – 13.45: Besøk 
 hos Mottaks- og oppfølgingsseter for unge\, MO-Ung<br /><strong>Adresse:<
 /strong> Bjergsted Terrasse nr 11\, 4007 Stavanger<br /><br /></li>\n<li>
 14.30 ­– 15.45: Besøk hos Tananger bo- og velferdssenter for å høre 
 om arbeidet med demens og bruk av ønske-turnus<br /><strong>Adresse:</str
 ong> Storevardvegen 25\, 4056 Tananger<br /><br /></li>\n<li>17.30 – 19
 .30: Folkemøte om helsepolitikk på Folken (<strong>i regi av Arbeiderpa
 rtiet)<br />Adresse: </strong>Arne rettedals gate 16\, Folkets hus Stavan
 ger </li>\n</ul>\n<p><strong>Pressen er velkommen til å delta.</strong><
 /p>\n<p>Journalister som ønsker å være med på arrangementer i regi av 
 Arbeiderpartiet\, folkemøter og besøket på Skansen aktivitet kan kontak
 te politisk rådgiver Bhanuja (Bano) Rasiah\, tlf: 980 26 561.</p>\n<p>Jou
 rnalister som ønsker å være med på noen av de øvrige arrangementene k
 an kontakte kommunikasjonsrådgiver Ingvild Wathne Johnsen\, tlf: 905 78 6
 71.</p>
DTEND:20240911T173000Z
DTSTAMP:20260424T223730Z
DTSTART:20240911T063000Z
SEQUENCE:0
SUMMARY:Helse - og omsorgsministeren på eldreturné
UID:1abe630b-db87-4aff-9298-5131a43aaad5
X-ALT-DESC;FMTTYPE=text/html:Aldersvennlig boligbygging\, velferdsteknologi
  og demens er noen av temaene når Vestre besøker Ulsteinvik\, Ålesund\,
  Førde\, Bergen\, Stavanger og Randaberg.<h2>Program:</h2>\n<h2>Mandag 9.
  september</h2>\n<h3>Ulsteinvik</h3>\n<ul>\n<li>08.30 – 09.30: Byvandrin
 g gjennom aldersvennlige 300-metersbyen i Ulsteinvik<br /><strong>Adresse:
 </strong> Ulstein Arena\, Vikemyra 2\, 6065 Ulsteinvik<br /><br /></li>\n
 <li>09.30 – 10.30: Besøk med hjemmetjenesten i Ulsteinvik sentrum for 
 å se velferdsteknologiske løsninger<br /><strong>Adresse:</strong> Hols
 ekerdalen 20\, 6065 Ulsteinvik</li>\n</ul>\n<h3>Ålesund</h3>\n<ul>\n<li>1
 2.30 – 13.20: Besøk til aktivitetstilbudet for eldre\, Sterk og stødig
 <br /><strong>Adresse:</strong> Borgundveien 162b\, 6008 Ålesund<br /><b
 r /></li>\n<li>13.35 – 14.30: Besøk på Åse helsehus med fokus på inn
 føringen av Helseplattformen<br /><br /><strong>Adresse:</strong> Åsesv
 ingen 16\, 6017 Ålesund</li>\n<li>15.00 - 16.00: Besøk på Skansen aktiv
 itet (<strong>i regi av Arbeiderpartiet)<br />Adresse: </strong>Sorenskr
 iver Bulls gate 17\, 6002 Ålesund<br /><br /></li>\n<li>17.30 – 19.30: 
 Folkemøte om helsepolitikk på Pir Cowork (<strong>i regi av Arbeiderpart
 iet)</strong><br /><strong>Adresse:</strong> Keiser Wilhelmsgate 22 (Pir 
 Cowork)\, 6002 Ålesund</li>\n</ul>\n<h2>Tirsdag 10. september</h2>\n<h3>F
 ørde</h3>\n<ul>\n<li>08.30 –09.15: Omvisning hos Apotekargarden omsorgs
 boliger<br /><strong>Adresse:</strong> Langebruvegen 15\, 6800 Førde<br 
 /><br /></li>\n<li>09.30 – 10.45: Besøk på nye Førde sjukehus<br /><s
 trong>Adresse: </strong>Svanehaugveien 2\, 6812 Førde<br /><br /></li>\n
 <li>11.00 – 12.00: Møte fremtidens sykepleiere m.m. ved Høgskulen på 
 Vestlandet<br /><strong>Adresse:</strong> Svanehaugvegen 1\, 6812 Førde<
 /li>\n</ul>\n<h3>Bergen</h3>\n<ul>\n<li>16.00 – 17.15: Møte med eiendom
 sutviklere og forskningsmiljøer om aldersvennlig boligbygging i Bergen<br
  /><strong>Adresse:</strong> Øvre Sædalsvegen 169 A-T\, 5099 Bergen<br 
 /><br /></li>\n<li>17.15 – 18.00: Omvisning på Helgetun bofellesskap<br
  /><strong>Adresse:</strong> Øvre Sædalsvegen 169 A-T\, 5099 Bergen<br 
 /><br /></li>\n<li>18.30 – 20.30: Folkemøte om helsepolitikk i Aasegår
 den (<strong>i regi av Arbeiderpartiet)<br />Adresse: </strong>Bjørns g
 ate 1\, Aasegården\, 6 etg</li>\n</ul>\n<h2>Onsdag 11. september</h2>\n<h
 3>Stavanger/Tananger</h3>\n<ul>\n<li>08.00 – 09.30: Besøk på Norwegian
  Smart Care Lab om utvikling av fremtidens velferdsteknologi<br /><strong>
 Adresse:</strong> Professor Olav Hanssens vei 7a\, 4021 Stavanger<br /><b
 r /></li>\n<li>10.00 – 11.15: Besøk på Stokka sykehjem for å høre om
  prosjekt Heltidskultur<br /><strong>Adresse:</strong> Lassaveien 10\, 40
 22 Stavanger<br /><br /></li>\n<li>10.30 ­– 12.30: Besøk på aktivitet
 stilbud for yngre personer med demens på Hermetikken<br /><strong>Adresse
 :</strong> Badehusgata 37\, 4014 Stavanger<br /><br /></li>\n<li>13.00 
 – 13.45: Besøk hos Mottaks- og oppfølgingsseter for unge\, MO-Ung<br /
 ><strong>Adresse:</strong> Bjergsted Terrasse nr 11\, 4007 Stavanger<br /
 ><br /></li>\n<li>14.30 ­– 15.45: Besøk hos Tananger bo- og velferdsse
 nter for å høre om arbeidet med demens og bruk av ønske-turnus<br /><st
 rong>Adresse:</strong> Storevardvegen 25\, 4056 Tananger<br /><br /></li>
 \n<li>17.30 – 19.30: Folkemøte om helsepolitikk på Folken (<strong>i 
 regi av Arbeiderpartiet)<br />Adresse: </strong>Arne rettedals gate 16\, 
 Folkets hus Stavanger </li>\n</ul>\n<p><strong>Pressen er velkommen til 
 å delta.</strong></p>\n<p>Journalister som ønsker å være med på arran
 gementer i regi av Arbeiderpartiet\, folkemøter og besøket på Skansen a
 ktivitet kan kontakte politisk rådgiver Bhanuja (Bano) Rasiah\, tlf: 980 
 26 561.</p>\n<p>Journalister som ønsker å være med på noen av de øvri
 ge arrangementene kan kontakte kommunikasjonsrådgiver Ingvild Wathne John
 sen\, tlf: 905 78 671.</p>
END:VEVENT
BEGIN:VTIMEZONE
TZID:Europe/Oslo
X-LIC-LOCATION:Europe/Oslo
END:VTIMEZONE
END:VCALENDAR
