BEGIN:VCALENDAR
PRODID:-//github.com/ical-org/ical.net//NONSGML ical.net 5.2.1//EN
VERSION:2.0
BEGIN:VEVENT
DESCRIPTION:Astri Aas-Hansen er blant deltagerne på årets agderkonferanse
 \, som har tittel "Samspill – for sikkerhet\, fellesskap og nye mulighet
 er".\n\n\n<p>  <a href="https://event.checkin.no/203963/agderkonferansen-
 2026">Agderkonferansen 2026 – 13. jan. 2026</a> </p>
DTSTAMP:20260419T132820Z
DTSTART;VALUE=DATE:20260113
LOCATION: Kunstsiloen\, Kristiansand
SEQUENCE:0
SUMMARY:Justis- og beredskapsminister Aas-Hansen deltar på Agderkonferanse
 n 2026
UID:c42b35b0-0030-47d1-b18e-29e8c3cf0832
X-ALT-DESC;FMTTYPE=text/html:Astri Aas-Hansen er blant deltagerne på året
 s agderkonferanse\, som har tittel "Samspill – for sikkerhet\, fellesska
 p og nye muligheter".\n\n\n<p>  <a href="https://event.checkin.no/203963/
 agderkonferansen-2026">Agderkonferansen 2026 – 13. jan. 2026</a> </p>
END:VEVENT
BEGIN:VTIMEZONE
TZID:Europe/Oslo
X-LIC-LOCATION:Europe/Oslo
END:VTIMEZONE
END:VCALENDAR
