BEGIN:VCALENDAR
PRODID:-//github.com/ical-org/ical.net//NONSGML ical.net 5.2.1//EN
VERSION:2.0
BEGIN:VEVENT
DESCRIPTION:Justis- og beredskapsminister Astri Aas-Hansen deltar i tre deb
 atter i Arendalsukas andre dag.<p>Klokka 08:00-09:00: Stine Sofies Stiftel
 se inviterer blant andre justisminister Aas-Hansen til <a href="https://ww
 w.arendalsuka.no/programsoek/details/12268">samtale om digitale overgrep m
 ot barn</a></p>\n<p>Klokka 12:00-13:00: Justisminister Aas-Hansen deltar t
 il debatten <a href="https://www.arendalsuka.no/programsoek/details/17740"
 >«Den blå sonen – politiets oppgaver i en skjerpet sikkerhetspolitisk 
 situasjon».</a> Arrangør: Politiets Fellesforbund.</p>\n<p>Klokka 14:00-
 15:00: Justisminister Aas-Hansen deltar i debatten «<a href="https://www.
 arendalsuka.no/programsoek/details/6900">Organisert kriminalitet – Norde
 ns nye hovedutfordring</a>» Arrangør: Arendalsuka\, Nordisk Ministerråd
  og Politidirektoratet.</p>\n<p>Justisministerens kontaktperson i Arendal 
 er politisk rådgiver Herman Høgby Robertsen\, telefon: 454 41 806\, e-p
 ost: <a href="mailto:herman.robertsen@jd.dep.no">herman.robertsen@jd.dep.
 no</a></p>
DTSTAMP:20260423T154448Z
DTSTART;VALUE=DATE:20250812
LOCATION:Arendal
SEQUENCE:0
SUMMARY:Justis- og beredskapsminister Astri Aas-Hansen på Arendalsukas and
 re dag
UID:d4c9311c-4bcd-49d8-9f38-c139e2ede5c1
X-ALT-DESC;FMTTYPE=text/html:Justis- og beredskapsminister Astri Aas-Hansen
  deltar i tre debatter i Arendalsukas andre dag.<p>Klokka 08:00-09:00: Sti
 ne Sofies Stiftelse inviterer blant andre justisminister Aas-Hansen til <a
  href="https://www.arendalsuka.no/programsoek/details/12268">samtale om di
 gitale overgrep mot barn</a></p>\n<p>Klokka 12:00-13:00: Justisminister Aa
 s-Hansen deltar til debatten <a href="https://www.arendalsuka.no/programso
 ek/details/17740">«Den blå sonen – politiets oppgaver i en skjerpet si
 kkerhetspolitisk situasjon».</a> Arrangør: Politiets Fellesforbund.</p>\
 n<p>Klokka 14:00-15:00: Justisminister Aas-Hansen deltar i debatten «<a h
 ref="https://www.arendalsuka.no/programsoek/details/6900">Organisert krimi
 nalitet – Nordens nye hovedutfordring</a>» Arrangør: Arendalsuka\, Nor
 disk Ministerråd og Politidirektoratet.</p>\n<p>Justisministerens kontakt
 person i Arendal er politisk rådgiver Herman Høgby Robertsen\, telefon: 
 454 41 806\, e-post: <a href="mailto:herman.robertsen@jd.dep.no">herman.
 robertsen@jd.dep.no</a></p>
END:VEVENT
BEGIN:VTIMEZONE
TZID:Europe/Oslo
X-LIC-LOCATION:Europe/Oslo
END:VTIMEZONE
END:VCALENDAR
