BEGIN:VCALENDAR
PRODID:-//github.com/ical-org/ical.net//NONSGML ical.net 5.2.1//EN
VERSION:2.0
BEGIN:VEVENT
DESCRIPTION:Danmarks samfunnssikkerhets- og beredskapsminister Torsten Scha
 ck Pedersen kommer på offisielt besøk til justis- og beredskapsminister 
 Astri Aas-Hansen. Bakgrunnen for møtet er blant annet opprettelsen av et 
 eget dansk departement for samfunnssikkerhet og beredskap høsten 2024.<p>
 <a href="https://www.regjeringen.no/no/aktuelt/justis-og-beredskapsministe
 r-astri-aas-hansen-moter-danmarks-samfunnssikkerhets-og-beredskapsminister
 -torsten-schack-pedersen/id3101439/">Presseinvitasjon: Justis- og beredska
 psminister Astri Aas-Hansen møter Danmarks samfunnssikkerhets- og beredsk
 apsminister Torsten Schack Pedersen </a></p>
DTSTAMP:20260423T154448Z
DTSTART:20250519T120000Z
LOCATION:Justis- og beredskapsdepartementet Gullhaug Torg 4A
SEQUENCE:0
SUMMARY:Justis- og beredskapsminister Astri Aas-Hansen møter Danmarks samf
 unnssikkerhets- og beredskapsminister Torsten Schack Pedersen
UID:92d50493-969e-484f-81f7-58e9339ea313
X-ALT-DESC;FMTTYPE=text/html:Danmarks samfunnssikkerhets- og beredskapsmini
 ster Torsten Schack Pedersen kommer på offisielt besøk til justis- og be
 redskapsminister Astri Aas-Hansen. Bakgrunnen for møtet er blant annet op
 prettelsen av et eget dansk departement for samfunnssikkerhet og beredskap
  høsten 2024.<p><a href="https://www.regjeringen.no/no/aktuelt/justis-og-
 beredskapsminister-astri-aas-hansen-moter-danmarks-samfunnssikkerhets-og-b
 eredskapsminister-torsten-schack-pedersen/id3101439/">Presseinvitasjon: Ju
 stis- og beredskapsminister Astri Aas-Hansen møter Danmarks samfunnssikke
 rhets- og beredskapsminister Torsten Schack Pedersen </a></p>
END:VEVENT
BEGIN:VTIMEZONE
TZID:Europe/Oslo
X-LIC-LOCATION:Europe/Oslo
END:VTIMEZONE
END:VCALENDAR
