BEGIN:VCALENDAR
PRODID:-//github.com/ical-org/ical.net//NONSGML ical.net 5.2.1//EN
VERSION:2.0
BEGIN:VEVENT
DESCRIPTION:Astri Aas-Hansen deltar i tre debatter på Arendalsukas første
  dag. \n<p>Klokka 15:00-15:45: Astri Aas-Hansen deltar i debatten «<a hre
 f="https://www.arendalsuka.no/programsoek/details/18360">Bedre forberedt p
 å kriser og krig</a>». Arrangør: Norges Røde Kors.</p>\n<p>Klokka 17:0
 0: Astri Aas-Hansen deltar i toppledersamtalen\, som spør «<a href="http
 s://www.arendalsuka.no/programsoek/details/24817">Er totalforsvaret sterkt
  nok?».</a> Arrangør: KPMG.</p>\n<p>Klokka 17:30: Astri Aas-Hansen delt
 ar på «<a href="https://www.arendalsuka.no/programsoek/details/21239">Kr
 imkvelden i Arendal: Om sorte svaner\, hybridkrig og svindel</a>»</p>\n<p
 >Justisministerens kontaktperson i Arendal er politisk rådgiver Herman H
 øgby Robertsen\, telefon: 454 41 806\, e-post: <a href="mailto:herman.r
 obertsen@jd.dep.no">herman.robertsen@jd.dep.no</a><br /> </p>
DTSTAMP:20260423T154439Z
DTSTART:20250811T070000Z
LOCATION:Arendal
SEQUENCE:0
SUMMARY:Justis- og beredskapsminister Astri Aas-Hansen på Arendalsukas fø
 rste dag
UID:2f1676ee-9152-42bc-9bf5-84c654d3394d
X-ALT-DESC;FMTTYPE=text/html:Astri Aas-Hansen deltar i tre debatter på Are
 ndalsukas første dag. \n<p>Klokka 15:00-15:45: Astri Aas-Hansen deltar i 
 debatten «<a href="https://www.arendalsuka.no/programsoek/details/18360">
 Bedre forberedt på kriser og krig</a>». Arrangør: Norges Røde Kors.</p
 >\n<p>Klokka 17:00: Astri Aas-Hansen deltar i toppledersamtalen\, som spø
 r «<a href="https://www.arendalsuka.no/programsoek/details/24817">Er tota
 lforsvaret sterkt nok?».</a> Arrangør: KPMG.</p>\n<p>Klokka 17:30: Astr
 i Aas-Hansen deltar på «<a href="https://www.arendalsuka.no/programsoek/
 details/21239">Krimkvelden i Arendal: Om sorte svaner\, hybridkrig og svin
 del</a>»</p>\n<p>Justisministerens kontaktperson i Arendal er politisk r
 ådgiver Herman Høgby Robertsen\, telefon: 454 41 806\, e-post: <a href
 ="mailto:herman.robertsen@jd.dep.no">herman.robertsen@jd.dep.no</a><br />
  </p>
END:VEVENT
BEGIN:VTIMEZONE
TZID:Europe/Oslo
X-LIC-LOCATION:Europe/Oslo
END:VTIMEZONE
END:VCALENDAR
