BEGIN:VCALENDAR
PRODID:-//github.com/ical-org/ical.net//NONSGML ical.net 5.2.1//EN
VERSION:2.0
BEGIN:VEVENT
DESCRIPTION:Statsråd Astri Aas-Hansen deltar på observatørdagen til Øve
 lse Bukkesprang\, som er  Norges største totalforsvarsøvelse i cyberdome
 net. Øvelsen samler sentrale aktører fra offentlig og privat sektor\, og
  skal styrke nasjonal motstandskraft mot digitale trusler. <p>Øvelse Bukk
 esprang eies av Telenor\, og den gjennomføres i nært samarbeid med Cyb
 erforsvaret og Nasjonal sikkerhetsmyndighet.</p>\n<p><a href="https://bu
 kkesprang.no/">Les mer om Øvelse Bukkesprang</a> </p>
DTSTAMP:20260422T170103Z
DTSTART:20250521T070000Z
SEQUENCE:0
SUMMARY:Justis- og beredskapsministeren er på Øvelse Bukkesprang
UID:d87c401b-43d8-4b31-8d5b-fda2b4362123
X-ALT-DESC;FMTTYPE=text/html:Statsråd Astri Aas-Hansen deltar på observat
 ørdagen til Øvelse Bukkesprang\, som er  Norges største totalforsvarsø
 velse i cyberdomenet. Øvelsen samler sentrale aktører fra offentlig og p
 rivat sektor\, og skal styrke nasjonal motstandskraft mot digitale trusler
 . <p>Øvelse Bukkesprang eies av Telenor\, og den gjennomføres i nært s
 amarbeid med Cyberforsvaret og Nasjonal sikkerhetsmyndighet.</p>\n<p><a
  href="https://bukkesprang.no/">Les mer om Øvelse Bukkesprang</a> </p>
END:VEVENT
BEGIN:VTIMEZONE
TZID:Europe/Oslo
X-LIC-LOCATION:Europe/Oslo
END:VTIMEZONE
END:VCALENDAR
