BEGIN:VCALENDAR
PRODID:-//github.com/ical-org/ical.net//NONSGML ical.net 5.2.1//EN
VERSION:2.0
BEGIN:VEVENT
DESCRIPTION:Justis- og beredskapsminister Aas-Hansen svarer på spørsmål 
 om førebygging av vald mot kvinner i Stortingets ordinære spørjetime.<p
 ><a href="https://www.stortinget.no/no/Hva-skjer-pa-Stortinget/Moteprogram
 /Sporretime/?meid=11537">Sjå spørsmål til spørjetimen onsdag 26. novem
 ber 2025 (stortinget.no)</a></p>
DTSTAMP:20260423T154448Z
DTSTART:20251126T100000Z
SEQUENCE:0
SUMMARY:Justis- og beredskapsministeren svarer på spørsmål om førebyggi
 ng av vald mot kvinner
UID:b0ef981d-5636-4123-9c11-ee317909c5df
X-ALT-DESC;FMTTYPE=text/html:Justis- og beredskapsminister Aas-Hansen svare
 r på spørsmål om førebygging av vald mot kvinner i Stortingets ordinæ
 re spørjetime.<p><a href="https://www.stortinget.no/no/Hva-skjer-pa-Stort
 inget/Moteprogram/Sporretime/?meid=11537">Sjå spørsmål til spørjetimen
  onsdag 26. november 2025 (stortinget.no)</a></p>
END:VEVENT
BEGIN:VTIMEZONE
TZID:Europe/Oslo
X-LIC-LOCATION:Europe/Oslo
END:VTIMEZONE
END:VCALENDAR
