BEGIN:VCALENDAR
PRODID:-//github.com/ical-org/ical.net//NONSGML ical.net 5.2.1//EN
VERSION:2.0
BEGIN:VEVENT
DESCRIPTION:
DTEND:20260423T170000Z
DTSTAMP:20260419T131949Z
DTSTART:20260423T160000Z
LOCATION:Den tyske ambassadørens residens 0264 Frederik Stangs gate 16 Osl
 o
SEQUENCE:0
SUMMARY:Helse- og omsorgsministeren holder innlegg på det årlige møtet i
  det tysk-norske nettverket
UID:bef9e883-b868-4e85-80b9-b0654866d02a
END:VEVENT
BEGIN:VTIMEZONE
TZID:Europe/Oslo
X-LIC-LOCATION:Europe/Oslo
END:VTIMEZONE
END:VCALENDAR
