BEGIN:VCALENDAR
PRODID:-//github.com/ical-org/ical.net//NONSGML ical.net 5.2.1//EN
VERSION:2.0
BEGIN:VEVENT
DESCRIPTION:<ul style="list-style-type: link-list\;">\n<li data-nav="linkli
 st-link"><a href="https://www.regjeringen.no/no/aktuelt/utviklingsminister
 en-besoker-beijing/id3156318/">Sjå eige presseprogram</a></li>\n</ul>
DTEND;VALUE=DATE:20260421
DTSTAMP:20260421T125142Z
DTSTART;VALUE=DATE:20260421
LOCATION:Beijing\, Kina
SEQUENCE:0
SUMMARY:Utviklingsministeren besøkjer Beijing
UID:42292a89-d87f-4631-9df2-04f8dd53448c
X-ALT-DESC;FMTTYPE=text/html:<ul style="list-style-type: link-list\;">\n<li
  data-nav="linklist-link"><a href="https://www.regjeringen.no/no/aktuelt/u
 tviklingsministeren-besoker-beijing/id3156318/">Sjå eige presseprogram</a
 ></li>\n</ul>
END:VEVENT
BEGIN:VTIMEZONE
TZID:Europe/Oslo
X-LIC-LOCATION:Europe/Oslo
END:VTIMEZONE
END:VCALENDAR
