BEGIN:VCALENDAR
PRODID:-//github.com/ical-org/ical.net//NONSGML ical.net 5.2.1//EN
VERSION:2.0
BEGIN:VEVENT
DESCRIPTION:
DTEND:20260420T100000Z
DTSTAMP:20260419T131951Z
DTSTART:20260420T090000Z
LOCATION:Oslo
SEQUENCE:0
SUMMARY:Helse- og omsorgsministeren møter Helsedirektoratet\, Folkehelsein
 stituttet og Norsk forening for kognitiv terapi
UID:bf32fd60-0b92-4de5-9af0-d2717fdf1530
END:VEVENT
BEGIN:VTIMEZONE
TZID:Europe/Oslo
X-LIC-LOCATION:Europe/Oslo
END:VTIMEZONE
END:VCALENDAR
