BEGIN:VCALENDAR
PRODID:-//github.com/ical-org/ical.net//NONSGML ical.net 5.2.1//EN
VERSION:2.0
BEGIN:VEVENT
DESCRIPTION:Klima- og miljøminister Andreas Bjelland Eriksen besøkjer Lå
 gøya i Oslofjorden saman med Oslofjordens friluftsråd.<p>Temaet for bes
 øket er naturrestaurering. </p>\n<p>Pressekontakt for besøket er kommun
 ikasjonsrådgivar Katinka Prestøy\, tlf.nr. <a class="tellink" href="tel:
 91153671">911 53 671</a>. </p>
DTEND:20260423T090000Z
DTSTAMP:20260419T150333Z
DTSTART:20260423T063000Z
LOCATION:Honnørbrygga Oslo
SEQUENCE:0
SUMMARY:Klima- og miljøministeren besøkjer Lågøya i Oslofjorden
UID:f4037931-3362-4e08-a999-5aee620a7354
X-ALT-DESC;FMTTYPE=text/html:Klima- og miljøminister Andreas Bjelland Erik
 sen besøkjer Lågøya i Oslofjorden saman med Oslofjordens friluftsråd.<
 p>Temaet for besøket er naturrestaurering. </p>\n<p>Pressekontakt for be
 søket er kommunikasjonsrådgivar Katinka Prestøy\, tlf.nr. <a class="tel
 link" href="tel:91153671">911 53 671</a>. </p>
END:VEVENT
BEGIN:VTIMEZONE
TZID:Europe/Oslo
X-LIC-LOCATION:Europe/Oslo
END:VTIMEZONE
END:VCALENDAR
