BEGIN:VCALENDAR
PRODID:-//github.com/ical-org/ical.net//NONSGML ical.net 5.2.1//EN
VERSION:2.0
BEGIN:VEVENT
DESCRIPTION:
DTSTAMP:20260421T132701Z
DTSTART:20260424T170000Z
LOCATION:Nasjonalbiblioteket
SEQUENCE:0
SUMMARY:Kultur- og likestillingsministeren er til stede under festmiddag i 
 anledning Fosseforedraget og Fosseprisen for oversettere
UID:5aacb5f1-e525-4008-925a-bbc6b3f70ebe
END:VEVENT
BEGIN:VTIMEZONE
TZID:Europe/Oslo
X-LIC-LOCATION:Europe/Oslo
END:VTIMEZONE
END:VCALENDAR
