BEGIN:VCALENDAR
PRODID:-//github.com/ical-org/ical.net//NONSGML ical.net 5.2.1//EN
VERSION:2.0
BEGIN:VEVENT
DESCRIPTION:
DTSTAMP:20260421T132658Z
DTSTART:20260425T160000Z
LOCATION:Oslo Konserthus
SEQUENCE:0
SUMMARY:Kultur- og likestillingsministeren er til stede under H.M. Kongens 
 Gardes Festkonsert
UID:6a171e65-f5aa-4c86-9fd7-037476e85146
END:VEVENT
BEGIN:VTIMEZONE
TZID:Europe/Oslo
X-LIC-LOCATION:Europe/Oslo
END:VTIMEZONE
END:VCALENDAR
