BEGIN:VCALENDAR
PRODID:-//github.com/ical-org/ical.net//NONSGML ical.net 5.2.1//EN
VERSION:2.0
BEGIN:VEVENT
DESCRIPTION:
DTEND:20260421T100000Z
DTSTAMP:20260421T120020Z
DTSTART:20260421T083000Z
LOCATION:Avdeling Eikelund 5231 Sandbrekkvegen 27 Paradis
SEQUENCE:0
SUMMARY:Helse- og omsorgsministeren og barne- og familieministeren besøker
  Fana og Ytrebygda ungdomssenter
UID:950eebcc-7017-4f8a-aac0-a69bf87bc242
END:VEVENT
BEGIN:VTIMEZONE
TZID:Europe/Oslo
X-LIC-LOCATION:Europe/Oslo
END:VTIMEZONE
END:VCALENDAR
