BEGIN:VCALENDAR
PRODID:-//github.com/ical-org/ical.net//NONSGML ical.net 5.2.1//EN
VERSION:2.0
BEGIN:VEVENT
DESCRIPTION:Statsminister Jonas Gahr Støre opnar Bokdagen\, eit arrangemen
 t for heile bokbransjen\, i Gyldendalhuset i Oslo. <p>Pressekontakt er kom
 munikasjonsrådgivar Martin Lerberg Fossum\, telefon 46 81 98 12\, e-post 
 <a href="mailto:mlf@smk.dep.no">mlf@smk.dep.no</a>.</p>
DTSTAMP:20260421T133520Z
DTSTART:20260422T100000Z
LOCATION:Gyldendalhuset
SEQUENCE:0
SUMMARY:Statsministeren opnar Bokdagen
UID:4a1c254c-d89d-4895-a9d4-626542e9ca35
X-ALT-DESC;FMTTYPE=text/html:Statsminister Jonas Gahr Støre opnar Bokdagen
 \, eit arrangement for heile bokbransjen\, i Gyldendalhuset i Oslo. <p>Pre
 ssekontakt er kommunikasjonsrådgivar Martin Lerberg Fossum\, telefon 46 8
 1 98 12\, e-post <a href="mailto:mlf@smk.dep.no">mlf@smk.dep.no</a>.</p>
END:VEVENT
BEGIN:VTIMEZONE
TZID:Europe/Oslo
X-LIC-LOCATION:Europe/Oslo
END:VTIMEZONE
END:VCALENDAR
