BEGIN:VCALENDAR
PRODID:-//github.com/ical-org/ical.net//NONSGML ical.net 5.2.1//EN
VERSION:2.0
BEGIN:VEVENT
DESCRIPTION:Statsminister Jonas Gahr Støre deltek på Demokratikonferansen
  til Universitetet i Oslo.<p>Pressekontakt er kommunikasjonsrådgivar Øyv
 ind Stokke\, telefon 48 24 76 01\, e-post <a href="mailto:oyvind.stokke@sm
 k.dep.no">oyvind.stokke@smk.dep.no</a>.</p>
DTSTAMP:20260421T133519Z
DTSTART:20260424T070000Z
LOCATION:Universitetet i Oslo Georg Sverdrups Hus
SEQUENCE:0
SUMMARY:Statsministeren deltek på Demokratikonferansen til UiO
UID:27b329d8-e722-4e3b-936c-e57fa8e6cd59
X-ALT-DESC;FMTTYPE=text/html:Statsminister Jonas Gahr Støre deltek på Dem
 okratikonferansen til Universitetet i Oslo.<p>Pressekontakt er kommunikasj
 onsrådgivar Øyvind Stokke\, telefon 48 24 76 01\, e-post <a href="mailto
 :oyvind.stokke@smk.dep.no">oyvind.stokke@smk.dep.no</a>.</p>
END:VEVENT
BEGIN:VTIMEZONE
TZID:Europe/Oslo
X-LIC-LOCATION:Europe/Oslo
END:VTIMEZONE
END:VCALENDAR
