BEGIN:VCALENDAR
PRODID:-//github.com/ical-org/ical.net//NONSGML ical.net 5.2.1//EN
VERSION:2.0
BEGIN:VEVENT
DESCRIPTION:Statsminister Jonas Gahr Støre besøkjer Politihøgskolen i Os
 lo for å halde ei gjesteførelesning. Tema vil vere den urolege tida vi l
 ever i\, viktigheita av samfunnssikkerheit og god beredskap\, og politiets
  viktige rolle og samfunnsoppdrag i Noreg i åra framover. <p>Presse som 
 ønskjer å vere til stades må akkreditere seg til Linda Hallgren ved Pol
 itihøgskolen\, <a href="mailto:Linda.Hallgren@phs.no">Linda.Hallgren@phs.
 no</a>\, innan fredag 24. april kl. 09.30. Husk ID ved oppmøte.</p>\n<p>P
 ressekontakt for statsministeren er kommunikasjonsrådgivar Ingrid Brandal
  Myklebust\, telefon 99 50 19 17\, e-post <a href="mailto:ibm@smk.dep.no">
 ibm@smk.dep.no</a>.</p>
DTSTAMP:20260421T133520Z
DTSTART:20260424T110000Z
SEQUENCE:0
SUMMARY:Statsministeren besøkjer Politihøgskolen i Oslo for å halde ei g
 jesteførelesning
UID:8d0efd3d-8d14-40b9-a028-d9eac4a97dea
X-ALT-DESC;FMTTYPE=text/html:Statsminister Jonas Gahr Støre besøkjer Poli
 tihøgskolen i Oslo for å halde ei gjesteførelesning. Tema vil vere den 
 urolege tida vi lever i\, viktigheita av samfunnssikkerheit og god beredsk
 ap\, og politiets viktige rolle og samfunnsoppdrag i Noreg i åra framover
 . <p>Presse som ønskjer å vere til stades må akkreditere seg til Linda 
 Hallgren ved Politihøgskolen\, <a href="mailto:Linda.Hallgren@phs.no">Lin
 da.Hallgren@phs.no</a>\, innan fredag 24. april kl. 09.30. Husk ID ved opp
 møte.</p>\n<p>Pressekontakt for statsministeren er kommunikasjonsrådgiva
 r Ingrid Brandal Myklebust\, telefon 99 50 19 17\, e-post <a href="mailto:
 ibm@smk.dep.no">ibm@smk.dep.no</a>.</p>
END:VEVENT
BEGIN:VTIMEZONE
TZID:Europe/Oslo
X-LIC-LOCATION:Europe/Oslo
END:VTIMEZONE
END:VCALENDAR
