BEGIN:VCALENDAR
PRODID:-//github.com/ical-org/ical.net//NONSGML ical.net 5.2.1//EN
VERSION:2.0
BEGIN:VEVENT
DESCRIPTION:Klima- og miljøminister Andreas Bjelland Eriksen deltek på CI
 CEROdagen.<p>Han skal opne arrangementet Klimastatus 2026.</p>
DTEND:20260429T080000Z
DTSTAMP:20260425T164513Z
DTSTART:20260429T063000Z
LOCATION:Rebel Universitetsgata Oslo
SEQUENCE:0
SUMMARY:Klima- og miljøministeren deltek på CICEROdagen
UID:b908dcc5-1ecb-4d07-b975-33ba71bb5e51
X-ALT-DESC;FMTTYPE=text/html:Klima- og miljøminister Andreas Bjelland Erik
 sen deltek på CICEROdagen.<p>Han skal opne arrangementet Klimastatus 2026
 .</p>
END:VEVENT
BEGIN:VTIMEZONE
TZID:Europe/Oslo
X-LIC-LOCATION:Europe/Oslo
END:VTIMEZONE
END:VCALENDAR
