BEGIN:VCALENDAR
PRODID:-//github.com/ical-org/ical.net//NONSGML ical.net 5.2.1//EN
VERSION:2.0
BEGIN:VEVENT
DESCRIPTION:Statsminister Jonas Gahr Støre møter presidenten i Verdsbanke
 n\, Ajay Banga\, til samtale i statsministerbustaden. <p>Pressekontakt er 
 kommunikasjonsrådgivar Martin Lerberg Fossum\, telefon 46 81 98 12\, e-po
 st <a href="mailto:mlf@smk.dep.no">mlf@smk.dep.no</a>.</p>
DTSTAMP:20260425T164701Z
DTSTART:20260427T133000Z
LOCATION:Statsministerbustaden
SEQUENCE:0
SUMMARY:Statsministeren møter presidenten i Verdsbanken
UID:78354e74-dd92-487e-b268-10ba91fbf814
X-ALT-DESC;FMTTYPE=text/html:Statsminister Jonas Gahr Støre møter preside
 nten i Verdsbanken\, Ajay Banga\, til samtale i statsministerbustaden. <p>
 Pressekontakt er kommunikasjonsrådgivar Martin Lerberg Fossum\, telefon 4
 6 81 98 12\, e-post <a href="mailto:mlf@smk.dep.no">mlf@smk.dep.no</a>.</p
 >
END:VEVENT
BEGIN:VTIMEZONE
TZID:Europe/Oslo
X-LIC-LOCATION:Europe/Oslo
END:VTIMEZONE
END:VCALENDAR
