BEGIN:VCALENDAR
PRODID:-//github.com/ical-org/ical.net//NONSGML ical.net 5.2.1//EN
VERSION:2.0
BEGIN:VEVENT
DESCRIPTION:<p><a href="https://www.regjeringen.no/no/aktuelt/statsrad-tung
 -besoker-gjovik/id3157448/">Se programmet her</a></p>
DTEND;VALUE=DATE:20260427
DTSTAMP:20260425T164701Z
DTSTART;VALUE=DATE:20260427
SEQUENCE:0
SUMMARY:Digitaliserings- og forvaltningsministeren på reise til Gjøvik
UID:ea51f38d-fa51-4a10-bbf9-2e6e423ee434
X-ALT-DESC;FMTTYPE=text/html:<p><a href="https://www.regjeringen.no/no/aktu
 elt/statsrad-tung-besoker-gjovik/id3157448/">Se programmet her</a></p>
END:VEVENT
BEGIN:VTIMEZONE
TZID:Europe/Oslo
X-LIC-LOCATION:Europe/Oslo
END:VTIMEZONE
END:VCALENDAR
