BEGIN:VCALENDAR
PRODID:-//github.com/ical-org/ical.net//NONSGML ical.net 5.2.1//EN
VERSION:2.0
BEGIN:VEVENT
DESCRIPTION:
DTEND:20260428T064500Z
DTSTAMP:20260425T164522Z
DTSTART:20260428T055000Z
LOCATION:LOs besøkssenter\, Youngs gate 29
SEQUENCE:0
SUMMARY:Digitaliserings- og forvaltningsministeren deltar i paneldebatt i f
 orbindelse med lansering av bok om norsk datahistorie
UID:bef405b7-3ecc-40cb-94eb-bd327aef103c
END:VEVENT
BEGIN:VTIMEZONE
TZID:Europe/Oslo
X-LIC-LOCATION:Europe/Oslo
END:VTIMEZONE
END:VCALENDAR
