BEGIN:VCALENDAR
PRODID:-//github.com/ical-org/ical.net//NONSGML ical.net 5.2.1//EN
VERSION:2.0
BEGIN:VEVENT
DESCRIPTION:
DTEND:20260429T100000Z
DTSTAMP:20260425T164700Z
DTSTART:20260429T070000Z
LOCATION:SINTEFs Energibygg på Gløshaugen\, Trondheim
SEQUENCE:0
SUMMARY:Digitaliserings- og forvaltningsministeren deltar på rundebord om 
 utviklingspolitiske mål\, sett i lys av norsk teknologi og forskningskomp
 etanse
UID:80ac421d-8683-4c1d-b3d9-f52819fff373
END:VEVENT
BEGIN:VTIMEZONE
TZID:Europe/Oslo
X-LIC-LOCATION:Europe/Oslo
END:VTIMEZONE
END:VCALENDAR
