BEGIN:VCALENDAR
PRODID:-//github.com/ical-org/ical.net//NONSGML ical.net 5.2.1//EN
VERSION:2.0
BEGIN:VEVENT
DESCRIPTION:
DTEND;VALUE=DATE:20260430
DTSTAMP:20260425T164523Z
DTSTART;VALUE=DATE:20260430
SEQUENCE:0
SUMMARY:Digitaliserings- og forvaltningsministeren på reise til Orkdal
UID:e58c68f8-5cce-4f95-8e53-1bae85b90b2d
END:VEVENT
BEGIN:VTIMEZONE
TZID:Europe/Oslo
X-LIC-LOCATION:Europe/Oslo
END:VTIMEZONE
END:VCALENDAR
