BEGIN:VCALENDAR
PRODID:-//github.com/ical-org/ical.net//NONSGML ical.net 5.2.1//EN
VERSION:2.0
BEGIN:VEVENT
DESCRIPTION:<p>Pressekontakt: Pressevakta UD\, <a href="tel:23%2095%2000%2
 002">23 95 00 02</a>.</p>
DTSTAMP:20260425T164522Z
DTSTART:20260428T090000Z
SEQUENCE:0
SUMMARY:Utanriksministeren er i Stortinget i samband med behandlinga av eit
  representantforslag
UID:d640620f-af7d-459c-9f17-7e04e9b14ddd
X-ALT-DESC;FMTTYPE=text/html:<p>Pressekontakt: Pressevakta UD\, <a href="t
 el:23%2095%2000%2002">23 95 00 02</a>.</p>
END:VEVENT
BEGIN:VTIMEZONE
TZID:Europe/Oslo
X-LIC-LOCATION:Europe/Oslo
END:VTIMEZONE
END:VCALENDAR
