BEGIN:VCALENDAR
PRODID:-//github.com/ical-org/ical.net//NONSGML ical.net 5.2.1//EN
VERSION:2.0
BEGIN:VEVENT
DESCRIPTION:
DTSTAMP:20260425T164547Z
DTSTART:20260428T130000Z
LOCATION:Stortinget\, Oslo
SEQUENCE:0
SUMMARY:Utanriksministeren visedirektør i Verdas matvareprogram (WFP)\, Ca
 rl Skau
UID:fa09e551-d9c9-4be9-b6b1-66d02f4e58e6
END:VEVENT
BEGIN:VTIMEZONE
TZID:Europe/Oslo
X-LIC-LOCATION:Europe/Oslo
END:VTIMEZONE
END:VCALENDAR
