BEGIN:VCALENDAR
PRODID:-//github.com/ical-org/ical.net//NONSGML ical.net 5.2.1//EN
VERSION:2.0
BEGIN:VEVENT
DESCRIPTION:Energiminister Terje Aasland er i Bergen. Programmet ser forel
 øpig slik ut:<p>Kl. 10.20: Statsråden besøkjer leverandørbedrifta Beer
 enberg.<br />Adresse: Kokstaddalen 33\, Kokstad.</p>\n<p>Kl. 11.40: Statsr
 åden besøkjer Lyderhorn Borettslag i Loddefjord\, der han får ei orient
 ering om burettslagets planar for energieffektivisering. Adresse: Loddefjo
 rdveien 26 B\, Loddefjord.</p>\n<p>Kl. 14.15: Statsråden besøkjer forski
 ngsinstituttet Norce. Adresse: Nygårdsgaten 112\, Bergen.</p>\n<p>Pressek
 ontakt er kommunikasjonsrådgivar Henna Kvam\, telefon 47 40 90 49\, e-pos
 t <a href="mailto:henna.kvam@ed.dep.no">henna.kvam@ed.dep.no</a>.</p>
DTSTAMP:20260425T164701Z
DTSTART;VALUE=DATE:20260427
SEQUENCE:0
SUMMARY:Energiministeren er i Bergen
UID:51f52674-efd7-4ce5-a91d-186f60691921
X-ALT-DESC;FMTTYPE=text/html:Energiminister Terje Aasland er i Bergen. Prog
 rammet ser foreløpig slik ut:<p>Kl. 10.20: Statsråden besøkjer leverand
 ørbedrifta Beerenberg.<br />Adresse: Kokstaddalen 33\, Kokstad.</p>\n<p>K
 l. 11.40: Statsråden besøkjer Lyderhorn Borettslag i Loddefjord\, der ha
 n får ei orientering om burettslagets planar for energieffektivisering. A
 dresse: Loddefjordveien 26 B\, Loddefjord.</p>\n<p>Kl. 14.15: Statsråden 
 besøkjer forskingsinstituttet Norce. Adresse: Nygårdsgaten 112\, Bergen.
 </p>\n<p>Pressekontakt er kommunikasjonsrådgivar Henna Kvam\, telefon 47 
 40 90 49\, e-post <a href="mailto:henna.kvam@ed.dep.no">henna.kvam@ed.dep
 .no</a>.</p>
END:VEVENT
BEGIN:VTIMEZONE
TZID:Europe/Oslo
X-LIC-LOCATION:Europe/Oslo
END:VTIMEZONE
END:VCALENDAR
