BEGIN:VCALENDAR
PRODID:-//github.com/ical-org/ical.net//NONSGML ical.net 5.2.1//EN
VERSION:2.0
BEGIN:VEVENT
DESCRIPTION:Energiminister Terje Aasland er til stades i den ordinære spø
 rjetimen i Stortinget. For meir informasjon\, kontakt pressevakta i Energi
 departementet på 41 57 35 00\, e-post info@ed.dep.no.
DTSTAMP:20260425T164700Z
DTSTART:20260429T093000Z
SEQUENCE:0
SUMMARY:Energiministeren er til stades i den ordinære spørjetimen i Stort
 inget
UID:e90738f1-6ba8-4f02-9f67-54e79c55ed87
X-ALT-DESC;FMTTYPE=text/html:Energiminister Terje Aasland er til stades i d
 en ordinære spørjetimen i Stortinget. For meir informasjon\, kontakt pre
 ssevakta i Energidepartementet på 41 57 35 00\, e-post info@ed.dep.no.
END:VEVENT
BEGIN:VTIMEZONE
TZID:Europe/Oslo
X-LIC-LOCATION:Europe/Oslo
END:VTIMEZONE
END:VCALENDAR
