BEGIN:VCALENDAR
PRODID:-//github.com/ical-org/ical.net//NONSGML ical.net 5.2.1//EN
VERSION:2.0
BEGIN:VEVENT
DESCRIPTION:Energiminister Terje Aasland og barne- og familieminister Lene 
 Vågslid deltek i ein middag med Porsgrunn kommune. Middagen går føre se
 g på Hotel Bristol i Oslo.<p>For meir informasjon\, kontakt pressevakta i
  Energidepartementet på <a href="mailto:info@ed.dep.no">info@ed.dep.no</
 a> eller pressevakta i Barne- og familiedepartementet på <a href="mailt
 o:media@bfd.dep.no">media@bfd.dep.no</a>.</p>
DTSTAMP:20260425T164513Z
DTSTART:20260429T170000Z
LOCATION:Hotel Bristol\, Oslo
SEQUENCE:0
SUMMARY:Energiministeren og barne- og familieministeren deltek i ein middag
  med Porsgrunn kommune
UID:546f4e69-114f-48d4-be8a-71b5a0690016
X-ALT-DESC;FMTTYPE=text/html:Energiminister Terje Aasland og barne- og fami
 lieminister Lene Vågslid deltek i ein middag med Porsgrunn kommune. Midda
 gen går føre seg på Hotel Bristol i Oslo.<p>For meir informasjon\, kont
 akt pressevakta i Energidepartementet på <a href="mailto:info@ed.dep.no"
 >info@ed.dep.no</a> eller pressevakta i Barne- og familiedepartementet p
 å <a href="mailto:media@bfd.dep.no">media@bfd.dep.no</a>.</p>
END:VEVENT
BEGIN:VTIMEZONE
TZID:Europe/Oslo
X-LIC-LOCATION:Europe/Oslo
END:VTIMEZONE
END:VCALENDAR
