BEGIN:VCALENDAR
PRODID:-//github.com/ical-org/ical.net//NONSGML ical.net 5.2.1//EN
VERSION:2.0
BEGIN:VEVENT
DESCRIPTION:Energiminister Terje Aasland deltek på markeringa av 1. mai i 
 Rakkestad og Halden i Østfold. Programmet ser foreløpig slik ut:<p>Kl. 1
 0.00: 1. mai-arrangement i Rakkestad kulturhus. Adresse: Rådhusveien 8\, 
 Rakkestad.</p>\n<p>Kl. 13.15: 1. mai-arrangement i Busterudparken i Halden
 .</p>\n<p>For meir informasjon\, kontakt pressevakta i Energidepartementet
  på 41 57 35 00\, e-post <a href="mailto:info@ed.dep.no">info@ed.dep.no<
 /a>.</p>
DTSTAMP:20260425T164513Z
DTSTART;VALUE=DATE:20260501
SEQUENCE:0
SUMMARY:Energiministeren deltek på markeringa av 1. mai i Rakkestad og Hal
 den i Østfold
UID:c0c822b0-6e4e-40bb-8c04-f282dfac178a
X-ALT-DESC;FMTTYPE=text/html:Energiminister Terje Aasland deltek på marker
 inga av 1. mai i Rakkestad og Halden i Østfold. Programmet ser foreløpig
  slik ut:<p>Kl. 10.00: 1. mai-arrangement i Rakkestad kulturhus. Adresse: 
 Rådhusveien 8\, Rakkestad.</p>\n<p>Kl. 13.15: 1. mai-arrangement i Buster
 udparken i Halden.</p>\n<p>For meir informasjon\, kontakt pressevakta i En
 ergidepartementet på 41 57 35 00\, e-post <a href="mailto:info@ed.dep.no
 ">info@ed.dep.no</a>.</p>
END:VEVENT
BEGIN:VTIMEZONE
TZID:Europe/Oslo
X-LIC-LOCATION:Europe/Oslo
END:VTIMEZONE
END:VCALENDAR
