BEGIN:VCALENDAR
PRODID:-//github.com/ical-org/ical.net//NONSGML ical.net 5.2.1//EN
VERSION:2.0
BEGIN:VEVENT
DESCRIPTION:Fiskeri- og havminister Marianne Sivertsen Næss er dommer i fi
 nalen i Kokkesprell.<p><a href="https://www.fiskesprell.no/kokkesprell/">O
 m Kokkesprell</a></p>
DTEND:20260430T114500Z
DTSTAMP:20260425T164701Z
DTSTART:20260430T100000Z
LOCATION:Jacobs på Majorstuen - Colosseum park 0368 Essendrops gate 9 Oslo
SEQUENCE:0
SUMMARY:Fiskeri- og havministeren er dommer i finalen i Kokkesprell
UID:dba7e19c-da0f-4013-892c-cc3269fd9103
X-ALT-DESC;FMTTYPE=text/html:Fiskeri- og havminister Marianne Sivertsen Næ
 ss er dommer i finalen i Kokkesprell.<p><a href="https://www.fiskesprell.n
 o/kokkesprell/">Om Kokkesprell</a></p>
END:VEVENT
BEGIN:VTIMEZONE
TZID:Europe/Oslo
X-LIC-LOCATION:Europe/Oslo
END:VTIMEZONE
END:VCALENDAR
