BEGIN:VCALENDAR
PRODID:-//github.com/ical-org/ical.net//NONSGML ical.net 5.2.1//EN
VERSION:2.0
BEGIN:VEVENT
DESCRIPTION:Justisminister Aas-Hansen svarer på tre spørsmål i den ordin
 ære spørjetimen på Stortinget. <p><a href="https://www.stortinget.no/no
 /Hva-skjer-pa-Stortinget/Moteprogram/Sporretime/?meid=11616">Spørsmål ti
 l spørjetimen 29. april 2026 (stortinget.no)</a></p>
DTSTAMP:20260425T164523Z
DTSTART:20260429T090000Z
SEQUENCE:0
SUMMARY:Justis- og beredskapsministeren svarer på tre spørsmål i spørje
 timen
UID:bc021929-d5a4-4204-8c63-bc5391fbbebc
X-ALT-DESC;FMTTYPE=text/html:Justisminister Aas-Hansen svarer på tre spør
 smål i den ordinære spørjetimen på Stortinget. <p><a href="https://www
 .stortinget.no/no/Hva-skjer-pa-Stortinget/Moteprogram/Sporretime/?meid=116
 16">Spørsmål til spørjetimen 29. april 2026 (stortinget.no)</a></p>
END:VEVENT
BEGIN:VTIMEZONE
TZID:Europe/Oslo
X-LIC-LOCATION:Europe/Oslo
END:VTIMEZONE
END:VCALENDAR
