BEGIN:VCALENDAR
PRODID:-//github.com/ical-org/ical.net//NONSGML ical.net 5.2.1//EN
VERSION:2.0
BEGIN:VEVENT
DESCRIPTION:<p>Pressekontakt: Pressevakta UD\, <a href="tel:23%2095%2000%2
 002">23 95 00 02</a>.</p>
DTSTAMP:20260425T164701Z
DTSTART:20260427T120000Z
LOCATION:Bergen domkirke
SEQUENCE:0
SUMMARY:Utviklingsministeren opnar fotoutstillinga «One Body - trygge rom 
 for skeive i samarbeid med kirkenettverk» i regi av Kirkens Nødhjelp
UID:7febd418-3898-47f7-ae09-22901bb46e48
X-ALT-DESC;FMTTYPE=text/html:<p>Pressekontakt: Pressevakta UD\, <a href="t
 el:23%2095%2000%2002">23 95 00 02</a>.</p>
END:VEVENT
BEGIN:VTIMEZONE
TZID:Europe/Oslo
X-LIC-LOCATION:Europe/Oslo
END:VTIMEZONE
END:VCALENDAR
