BEGIN:VCALENDAR
PRODID:-//github.com/ical-org/ical.net//NONSGML ical.net 5.2.1//EN
VERSION:2.0
BEGIN:VEVENT
DESCRIPTION:
DTSTAMP:20260425T164700Z
DTSTART:20260427T130000Z
LOCATION:Nygårdsgaten 5\, Bergen
SEQUENCE:0
SUMMARY:Utviklingsministeren har eit møte med rektor ved Universitetet i B
 ergen\, Margareth Hagen
UID:ba3913c2-c060-4c5c-9e49-82c299232a66
END:VEVENT
BEGIN:VTIMEZONE
TZID:Europe/Oslo
X-LIC-LOCATION:Europe/Oslo
END:VTIMEZONE
END:VCALENDAR
