BEGIN:VCALENDAR
PRODID:-//github.com/ical-org/ical.net//NONSGML ical.net 5.2.1//EN
VERSION:2.0
BEGIN:VEVENT
DESCRIPTION:Utviklingsminister Åsmund Aukrust inviterer saman med kultur- 
 og likestillingsminister Lubna Jaffery til ein diskusjon om korleis Noreg 
 bør posisjonere seg for å styrke menneskerettar og demokrati internasjon
 alt.<p>Arrangementet blir gjennomført i samarbeid med Universitetet i Ber
 gen og Chr. Michelsens Institutt\, og er det tredje seminaret om Prosjekt 
 Vendepunkt. Stad: Storsalen\, Nygårdsgaten 5\, Bergen.</p>\n<ul style="li
 st-style-type: link-list\;">\n<li data-nav="linklist-link"><a href="https:
 //www.regjeringen.no/no/aktuelt/hvordan-ta-verdikampen-nar-motkreftene-mob
 iliserer/id3156326/">Hvordan ta verdikampen når motkreftene mobiliserer?<
 /a></li>\n</ul>
DTSTAMP:20260425T164547Z
DTSTART:20260427T140000Z
LOCATION:Storsalen\, Nygårdsgaten 5\, Bergen.
SEQUENCE:0
SUMMARY:Utviklingsministerenen inviterer saman med kultur- og likestillings
 ministeren til ein diskusjon om korleis Noreg bør posisjonere seg for å 
 styrke menneskerettar og demokrati internasjonalt
UID:cac89d06-3ed2-4dfa-9e45-a43e184ce4ef
X-ALT-DESC;FMTTYPE=text/html:Utviklingsminister Åsmund Aukrust inviterer s
 aman med kultur- og likestillingsminister Lubna Jaffery til ein diskusjon 
 om korleis Noreg bør posisjonere seg for å styrke menneskerettar og demo
 krati internasjonalt.<p>Arrangementet blir gjennomført i samarbeid med Un
 iversitetet i Bergen og Chr. Michelsens Institutt\, og er det tredje semin
 aret om Prosjekt Vendepunkt. Stad: Storsalen\, Nygårdsgaten 5\, Bergen.</
 p>\n<ul style="list-style-type: link-list\;">\n<li data-nav="linklist-link
 "><a href="https://www.regjeringen.no/no/aktuelt/hvordan-ta-verdikampen-na
 r-motkreftene-mobiliserer/id3156326/">Hvordan ta verdikampen når motkreft
 ene mobiliserer?</a></li>\n</ul>
END:VEVENT
BEGIN:VTIMEZONE
TZID:Europe/Oslo
X-LIC-LOCATION:Europe/Oslo
END:VTIMEZONE
END:VCALENDAR
