BEGIN:VCALENDAR
PRODID:-//github.com/ical-org/ical.net//NONSGML ical.net 5.2.1//EN
VERSION:2.0
BEGIN:VEVENT
DESCRIPTION:<ul style="list-style-type: link-list\;">\n<li data-nav="linkli
 st-link"><a href="https://www.regjeringen.no/no/aktuelt/kultur-og-likestil
 lingsministeren-far-rapport-om-nrk/id3157591/">Presseinvitasjon: Kultur- o
 g likestillingsministeren får rapport om NRK - regjeringen.no</a></li>\n<
 /ul>
DTSTAMP:20260425T164513Z
DTSTART:20260429T073000Z
LOCATION:Marmorhallen Kongens gate 18
SEQUENCE:0
SUMMARY:Kultur- og likestillingsministeren mottar rapport fra Medietilsynet
  om NRK
UID:2876af22-d13f-49c1-9be0-8825a9fd20e4
X-ALT-DESC;FMTTYPE=text/html:<ul style="list-style-type: link-list\;">\n<li
  data-nav="linklist-link"><a href="https://www.regjeringen.no/no/aktuelt/k
 ultur-og-likestillingsministeren-far-rapport-om-nrk/id3157591/">Presseinvi
 tasjon: Kultur- og likestillingsministeren får rapport om NRK - regjering
 en.no</a></li>\n</ul>
END:VEVENT
BEGIN:VTIMEZONE
TZID:Europe/Oslo
X-LIC-LOCATION:Europe/Oslo
END:VTIMEZONE
END:VCALENDAR
