BEGIN:VCALENDAR
PRODID:-//github.com/ical-org/ical.net//NONSGML ical.net 5.2.1//EN
VERSION:2.0
BEGIN:VEVENT
DESCRIPTION:<p>Kultur- og likestillingsministeren er i Finnmark på 1. mai\
 , og holder tale kl. 11 i Kirkenes og kl. 17 i Vadsø.</p>
DTSTAMP:20260425T164524Z
DTSTART;VALUE=DATE:20260501
LOCATION:Kirkenes og Vadsø
SEQUENCE:0
SUMMARY:Kultur- og likestillingsministeren holder 1. mai-taler
UID:f683c403-5ddf-4827-abb5-a0e877a89e1f
X-ALT-DESC;FMTTYPE=text/html:<p>Kultur- og likestillingsministeren er i Fin
 nmark på 1. mai\, og holder tale kl. 11 i Kirkenes og kl. 17 i Vadsø.</p
 >
END:VEVENT
BEGIN:VTIMEZONE
TZID:Europe/Oslo
X-LIC-LOCATION:Europe/Oslo
END:VTIMEZONE
END:VCALENDAR
