BEGIN:VCALENDAR
PRODID:-//github.com/ical-org/ical.net//NONSGML ical.net 5.2.1//EN
VERSION:2.0
BEGIN:VEVENT
DESCRIPTION:Statsminister Jonas Gahr Støre og digitaliserings- og forvaltn
 ingsminister Karianne Tung legg mosaikk på minnestaden etter 22. juli i l
 ag med ungdomsskuleelevar frå Demokrativerkstaden\, kunstnaren Matias Fal
 dbakken og 22. julisenteret. <p>Dei deltek i samskapingsprosessen\, leia a
 v 22. julisenteret i samarbeid med KORO\,  der etterlatne\, overlevande o
 g andre er med og skapar minnestaden i regjeringskvartalet ved å legge de
 lar av mosaikken. Sjå eiga <a href="https://koro.no/mosaikkverksted-pa-jo
 han-nygaardsvolds-plass/">pressemelding</a> frå KORO.</p>\n<p>Stad: Mosai
 kkverkstaden\, eit telt på Johan Nygaardsvolds plass framfor Høgblokka.<
 /p>\n<p>Pressekontakt for statsministeren er kommunikasjonsrådgivar Tone 
 Hertzberg\, telefon 91 19 13 13\, e-post <a href="mailto:the@smk.dep.no">
 the@smk.dep.no</a>.</p>\n<p>Pressekontakt for digitaliserings- og forvaltn
 ingsministeren er kommunikasjonsrådgivar Kathrine Blindheim\, telefon 92 
 06 30 11\, e-post: <a href="mailto:kathrine.blindheim@dfd.dep.no">kathrin
 e.blindheim@dfd.dep.no</a>.</p>
DTSTAMP:20260425T164522Z
DTSTART:20260428T121500Z
LOCATION:Regjeringskvartalet
SEQUENCE:0
SUMMARY:Mosaikk på minnestaden etter 22. juli
UID:58a63f34-4a6c-4e1a-a01a-60e78d1f4bfa
X-ALT-DESC;FMTTYPE=text/html:Statsminister Jonas Gahr Støre og digitaliser
 ings- og forvaltningsminister Karianne Tung legg mosaikk på minnestaden e
 tter 22. juli i lag med ungdomsskuleelevar frå Demokrativerkstaden\, kuns
 tnaren Matias Faldbakken og 22. julisenteret. <p>Dei deltek i samskapingsp
 rosessen\, leia av 22. julisenteret i samarbeid med KORO\,  der etterlatn
 e\, overlevande og andre er med og skapar minnestaden i regjeringskvartale
 t ved å legge delar av mosaikken. Sjå eiga <a href="https://koro.no/mosa
 ikkverksted-pa-johan-nygaardsvolds-plass/">pressemelding</a> frå KORO.</p
 >\n<p>Stad: Mosaikkverkstaden\, eit telt på Johan Nygaardsvolds plass fra
 mfor Høgblokka.</p>\n<p>Pressekontakt for statsministeren er kommunikasjo
 nsrådgivar Tone Hertzberg\, telefon 91 19 13 13\, e-post <a href="mailto
 :the@smk.dep.no">the@smk.dep.no</a>.</p>\n<p>Pressekontakt for digitaliser
 ings- og forvaltningsministeren er kommunikasjonsrådgivar Kathrine Blindh
 eim\, telefon 92 06 30 11\, e-post: <a href="mailto:kathrine.blindheim@df
 d.dep.no">kathrine.blindheim@dfd.dep.no</a>.</p>
END:VEVENT
BEGIN:VTIMEZONE
TZID:Europe/Oslo
X-LIC-LOCATION:Europe/Oslo
END:VTIMEZONE
END:VCALENDAR
