BEGIN:VCALENDAR
PRODID:-//github.com/ical-org/ical.net//NONSGML ical.net 5.2.1//EN
VERSION:2.0
BEGIN:VEVENT
DESCRIPTION:Statsminister Jonas Gahr Støre deltek på eit 1. mai-arrangeme
 nt i Bodø. <p>Pressekontakt er statssekretær Kristoffer Thoner\, telefon
  97 68 14 80\, e-post <a href="mailto:kth@smk.dep.no">kth@smk.dep.no</a>.<
 /p>
DTSTAMP:20260425T164514Z
DTSTART:20260430T170000Z
LOCATION:Folkets hus Pirnsens gate 115 Bodø
SEQUENCE:0
SUMMARY:Statsministeren deltek på eit 1. mai-arrangement i Bodø
UID:31911174-4331-4e20-b6bc-97ea0d1adc9f
X-ALT-DESC;FMTTYPE=text/html:Statsminister Jonas Gahr Støre deltek på eit
  1. mai-arrangement i Bodø. <p>Pressekontakt er statssekretær Kristoffer
  Thoner\, telefon 97 68 14 80\, e-post <a href="mailto:kth@smk.dep.no">kth
 @smk.dep.no</a>.</p>
END:VEVENT
BEGIN:VTIMEZONE
TZID:Europe/Oslo
X-LIC-LOCATION:Europe/Oslo
END:VTIMEZONE
END:VCALENDAR
